BEGIN:VCALENDAR
VERSION:2.0
PRODID:-//Central Union Church - ECPv6.15.20//NONSGML v1.0//EN
CALSCALE:GREGORIAN
METHOD:PUBLISH
X-WR-CALNAME:Central Union Church
X-ORIGINAL-URL:https://centralunionchurch.org
X-WR-CALDESC:Events for Central Union Church
REFRESH-INTERVAL;VALUE=DURATION:PT1H
X-Robots-Tag:noindex
X-PUBLISHED-TTL:PT1H
BEGIN:VTIMEZONE
TZID:Pacific/Honolulu
BEGIN:STANDARD
TZOFFSETFROM:-1000
TZOFFSETTO:-1000
TZNAME:HST
DTSTART:20250101T000000
END:STANDARD
END:VTIMEZONE
BEGIN:VEVENT
DTSTART;TZID=Pacific/Honolulu:20260419T070000
DTEND;TZID=Pacific/Honolulu:20260419T080000
DTSTAMP:20260419T071423
CREATED:20250116T040125Z
LAST-MODIFIED:20260415T222227Z
UID:22691-1776582000-1776585600@centralunionchurch.org
SUMMARY:7 AM Traditional Worship Service
DESCRIPTION:Start your day with worship! \nSermon series: The Gospel According to Broadway \nGodspell: The Gospel in Community\nThis spring we invite you to experience the good news in a fresh way through  The Gospel According to Broadway:  The Musicals of Stephen Schwartz. Drawing on beloved Broadway shows\, this series explores how faith\, grace\, justice\, and purpose are revealed through modern storytelling and song. \nRooted in the United Church of Christ’s belief that God is Still Speaking\, this series echoes Pastor John Robinson’s reminder to the Pilgrims that “the Lord hath more truth and light yet to break forth from his holy Word.” We listen for God’s voice not only in Scripture\, but also in the culture and stories that surround us today. \nJoin us as we discover how God continues to speak—on the stage\, in community\, and in our lives.
URL:https://centralunionchurch.org/event/7am-worship-2026-04-19/
LOCATION:Atherton Chapel
CATEGORIES:Church Service
ATTACH;FMTTYPE=image/png:https://centralunionchurch.org/wp-content/uploads/2025/01/4.19-Godspell-GATB.png
END:VEVENT
BEGIN:VEVENT
DTSTART;TZID=Pacific/Honolulu:20260419T090000
DTEND;TZID=Pacific/Honolulu:20260419T100000
DTSTAMP:20260419T071423
CREATED:20250116T041053Z
LAST-MODIFIED:20260415T223856Z
UID:22488-1776589200-1776592800@centralunionchurch.org
SUMMARY:9 AM Traditional Worship Service
DESCRIPTION:Worship with us in our Sanctuary! \nCan’t make it in person? View the live stream on YouTube! \nSermon series: The Gospel According to Broadway \nGodspell: The Gospel in Community\nThis spring we invite you to experience the good news in a fresh way through  The Gospel According to Broadway:  The Musicals of Stephen Schwartz. Drawing on beloved Broadway shows\, this series explores how faith\, grace\, justice\, and purpose are revealed through modern storytelling and song. \nRooted in the United Church of Christ’s belief that God is Still Speaking\, this series echoes Pastor John Robinson’s reminder to the Pilgrims that “the Lord hath more truth and light yet to break forth from his holy Word.” We listen for God’s voice not only in Scripture\, but also in the culture and stories that surround us today. \nJoin us as we discover how God continues to speak—on the stage\, in community\, and in our lives.
URL:https://centralunionchurch.org/event/9am-worship-2026-04-19/
LOCATION:Sanctuary
CATEGORIES:Church Service
ATTACH;FMTTYPE=image/png:https://centralunionchurch.org/wp-content/uploads/2025/01/4.19-Godspell-GATB.png
END:VEVENT
BEGIN:VEVENT
DTSTART;TZID=Pacific/Honolulu:20260419T110000
DTEND;TZID=Pacific/Honolulu:20260419T120000
DTSTAMP:20260419T071423
CREATED:20250704T005909Z
LAST-MODIFIED:20250704T012525Z
UID:23188-1776596400-1776600000@centralunionchurch.org
SUMMARY:Zoom Fellowship
DESCRIPTION:Are you interested in helping folks stay connected with the CUC ‘ohana? Are you unable to come to the church campus but want to connect? Join this casual time of virtual fellowship via Zoom on Sundays at 11 AM! \nThis virtual “Aloha Lanai” (the name for the weekly time of refreshments and fellowship after the worship services\, prior to the COVID-19 pandemic) started during the pandemic and a few folks have kept it up since then. They welcome new friends to join — just drop in whenever! \nJoin by Zoom: https://us02web.zoom.us/j/81010502863?pwd=XcM8rGss3XHacmsGwHlzsrG5zPYMNL.1 \nMeeting ID: 810 1050 2863\nPasscode: cuc \nCall by phone: +1 669 900 6833\nMeeting ID: 810 1050 2863\nPasscode: 976725
URL:https://centralunionchurch.org/event/zoom-fellowship/2026-04-19/
LOCATION:Zoom
ATTACH;FMTTYPE=image/jpeg:https://centralunionchurch.org/wp-content/uploads/2025/07/CUC-zoom-fellowship-Sundays-11am-scaled.jpg
END:VEVENT
BEGIN:VEVENT
DTSTART;TZID=Pacific/Honolulu:20260419T110000
DTEND;TZID=Pacific/Honolulu:20260419T120000
DTSTAMP:20260419T071424
CREATED:20260313T015447Z
LAST-MODIFIED:20260415T224003Z
UID:25259-1776596400-1776600000@centralunionchurch.org
SUMMARY:11 AM Contemporary Worship Service
DESCRIPTION:Join us for our contemporary worship service in the Parish Hall! \nSermon series: The Gospel According to Broadway \nGodspell: The Gospel in Community\nThis spring we invite you to experience the good news in a fresh way through  The Gospel According to Broadway:  The Musicals of Stephen Schwartz. Drawing on beloved Broadway shows\, this series explores how faith\, grace\, justice\, and purpose are revealed through modern storytelling and song. \nRooted in the United Church of Christ’s belief that God is Still Speaking\, this series echoes Pastor John Robinson’s reminder to the Pilgrims that “the Lord hath more truth and light yet to break forth from his holy Word.” We listen for God’s voice not only in Scripture\, but also in the culture and stories that surround us today. \nJoin us as we discover how God continues to speak—on the stage\, in community\, and in our lives.
URL:https://centralunionchurch.org/event/11-worship-2026-04-19/
LOCATION:Parish Hall
CATEGORIES:Church Service,CUC
ATTACH;FMTTYPE=image/png:https://centralunionchurch.org/wp-content/uploads/2025/01/4.19-Godspell-GATB.png
END:VEVENT
BEGIN:VEVENT
DTSTART;TZID=Pacific/Honolulu:20260419T173000
DTEND;TZID=Pacific/Honolulu:20260419T180000
DTSTAMP:20260419T071424
CREATED:20260417T013117Z
LAST-MODIFIED:20260417T014715Z
UID:25748-1776619800-1776621600@centralunionchurch.org
SUMMARY:Service of Healing & Prayer
DESCRIPTION:Join us on the third Sunday of the month for this special\, intimate\, and contemplative service in the Iona tradition. Too often in our living we struggle with woundedness – whether of the body\, of the mind\, or of the spirit. \nCome and discover a place of healing for your soul rooted in the traditions of the Scottish island of Iona where Celtic Christianity flourishes. The service will include music from the Taizé community\, prayer\, silence\, and the ritual of the laying on of hands. All are welcome.
URL:https://centralunionchurch.org/event/service-of-healing-prayer-april-2026/
LOCATION:Atherton Chapel
CATEGORIES:CUC,Faith Formation
ATTACH;FMTTYPE=image/jpeg:https://centralunionchurch.org/wp-content/uploads/2025/12/service-of-healing-and-prayer-rainbow-hands.jpg
END:VEVENT
END:VCALENDAR