BEGIN:VCALENDAR
VERSION:2.0
PRODID:-//Central Union Church - ECPv6.15.20//NONSGML v1.0//EN
CALSCALE:GREGORIAN
METHOD:PUBLISH
X-WR-CALNAME:Central Union Church
X-ORIGINAL-URL:https://centralunionchurch.org
X-WR-CALDESC:Events for Central Union Church
REFRESH-INTERVAL;VALUE=DURATION:PT1H
X-Robots-Tag:noindex
X-PUBLISHED-TTL:PT1H
BEGIN:VTIMEZONE
TZID:Pacific/Honolulu
BEGIN:STANDARD
TZOFFSETFROM:-1000
TZOFFSETTO:-1000
TZNAME:HST
DTSTART:20260101T000000
END:STANDARD
END:VTIMEZONE
BEGIN:VEVENT
DTSTART;TZID=Pacific/Honolulu:20270808T070000
DTEND;TZID=Pacific/Honolulu:20270808T080000
DTSTAMP:20260420T230203
CREATED:20250116T040125Z
LAST-MODIFIED:20250116T040125Z
UID:23760-1817708400-1817712000@centralunionchurch.org
SUMMARY:7 AM Traditional Worship Service
DESCRIPTION:Start your day with worship!
URL:https://centralunionchurch.org/event/7am-worship/2027-08-08/
LOCATION:Atherton Chapel
CATEGORIES:Church Service
ATTACH;FMTTYPE=image/jpeg:https://centralunionchurch.org/wp-content/uploads/2024/01/Atherton-Chapel-CUC-outside-front-scaled.jpg
END:VEVENT
BEGIN:VEVENT
DTSTART;TZID=Pacific/Honolulu:20270808T090000
DTEND;TZID=Pacific/Honolulu:20270808T100000
DTSTAMP:20260420T230203
CREATED:20250116T041053Z
LAST-MODIFIED:20260313T014949Z
UID:23761-1817715600-1817719200@centralunionchurch.org
SUMMARY:9 AM Traditional Worship Service
DESCRIPTION:Worship with us in our Sanctuary! \nCan’t make it in person? View the live stream on YouTube!
URL:https://centralunionchurch.org/event/9am-worship-2026-04-05/2027-08-08/
LOCATION:Sanctuary
CATEGORIES:Church Service
ATTACH;FMTTYPE=image/jpeg:https://centralunionchurch.org/wp-content/uploads/2023/07/Easter-2022-CUC-sanctuary-scaled.jpg
END:VEVENT
BEGIN:VEVENT
DTSTART;TZID=Pacific/Honolulu:20270808T110000
DTEND;TZID=Pacific/Honolulu:20270808T120000
DTSTAMP:20260420T230203
CREATED:20260313T015447Z
LAST-MODIFIED:20260313T022341Z
UID:25328-1817722800-1817726400@centralunionchurch.org
SUMMARY:11 AM Contemporary Worship Service
DESCRIPTION:Join us for our contemporary worship service in the Parish Hall! \n 
URL:https://centralunionchurch.org/event/11-worship/2027-08-08/
LOCATION:Parish Hall
CATEGORIES:Church Service,CUC
ATTACH;FMTTYPE=image/jpeg:https://centralunionchurch.org/wp-content/uploads/2023/07/11am-worship-CUC-Christ-beside-us-holding-hands-1-scaled.jpg
END:VEVENT
BEGIN:VEVENT
DTSTART;TZID=Pacific/Honolulu:20270815T070000
DTEND;TZID=Pacific/Honolulu:20270815T080000
DTSTAMP:20260420T230203
CREATED:20250116T040125Z
LAST-MODIFIED:20250116T040125Z
UID:23817-1818313200-1818316800@centralunionchurch.org
SUMMARY:7 AM Traditional Worship Service
DESCRIPTION:Start your day with worship!
URL:https://centralunionchurch.org/event/7am-worship/2027-08-15/
LOCATION:Atherton Chapel
CATEGORIES:Church Service
ATTACH;FMTTYPE=image/jpeg:https://centralunionchurch.org/wp-content/uploads/2024/01/Atherton-Chapel-CUC-outside-front-scaled.jpg
END:VEVENT
BEGIN:VEVENT
DTSTART;TZID=Pacific/Honolulu:20270815T090000
DTEND;TZID=Pacific/Honolulu:20270815T100000
DTSTAMP:20260420T230203
CREATED:20250116T041053Z
LAST-MODIFIED:20260313T014949Z
UID:23818-1818320400-1818324000@centralunionchurch.org
SUMMARY:9 AM Traditional Worship Service
DESCRIPTION:Worship with us in our Sanctuary! \nCan’t make it in person? View the live stream on YouTube!
URL:https://centralunionchurch.org/event/9am-worship-2026-04-05/2027-08-15/
LOCATION:Sanctuary
CATEGORIES:Church Service
ATTACH;FMTTYPE=image/jpeg:https://centralunionchurch.org/wp-content/uploads/2023/07/Easter-2022-CUC-sanctuary-scaled.jpg
END:VEVENT
BEGIN:VEVENT
DTSTART;TZID=Pacific/Honolulu:20270815T110000
DTEND;TZID=Pacific/Honolulu:20270815T120000
DTSTAMP:20260420T230203
CREATED:20260313T015447Z
LAST-MODIFIED:20260313T022341Z
UID:25329-1818327600-1818331200@centralunionchurch.org
SUMMARY:11 AM Contemporary Worship Service
DESCRIPTION:Join us for our contemporary worship service in the Parish Hall! \n 
URL:https://centralunionchurch.org/event/11-worship/2027-08-15/
LOCATION:Parish Hall
CATEGORIES:Church Service,CUC
ATTACH;FMTTYPE=image/jpeg:https://centralunionchurch.org/wp-content/uploads/2023/07/11am-worship-CUC-Christ-beside-us-holding-hands-1-scaled.jpg
END:VEVENT
BEGIN:VEVENT
DTSTART;TZID=Pacific/Honolulu:20270822T070000
DTEND;TZID=Pacific/Honolulu:20270822T080000
DTSTAMP:20260420T230203
CREATED:20250116T040125Z
LAST-MODIFIED:20250116T040125Z
UID:23888-1818918000-1818921600@centralunionchurch.org
SUMMARY:7 AM Traditional Worship Service
DESCRIPTION:Start your day with worship!
URL:https://centralunionchurch.org/event/7am-worship/2027-08-22/
LOCATION:Atherton Chapel
CATEGORIES:Church Service
ATTACH;FMTTYPE=image/jpeg:https://centralunionchurch.org/wp-content/uploads/2024/01/Atherton-Chapel-CUC-outside-front-scaled.jpg
END:VEVENT
BEGIN:VEVENT
DTSTART;TZID=Pacific/Honolulu:20270822T090000
DTEND;TZID=Pacific/Honolulu:20270822T100000
DTSTAMP:20260420T230203
CREATED:20250116T041053Z
LAST-MODIFIED:20260313T014949Z
UID:23889-1818925200-1818928800@centralunionchurch.org
SUMMARY:9 AM Traditional Worship Service
DESCRIPTION:Worship with us in our Sanctuary! \nCan’t make it in person? View the live stream on YouTube!
URL:https://centralunionchurch.org/event/9am-worship-2026-04-05/2027-08-22/
LOCATION:Sanctuary
CATEGORIES:Church Service
ATTACH;FMTTYPE=image/jpeg:https://centralunionchurch.org/wp-content/uploads/2023/07/Easter-2022-CUC-sanctuary-scaled.jpg
END:VEVENT
BEGIN:VEVENT
DTSTART;TZID=Pacific/Honolulu:20270822T110000
DTEND;TZID=Pacific/Honolulu:20270822T120000
DTSTAMP:20260420T230203
CREATED:20260313T015447Z
LAST-MODIFIED:20260313T022341Z
UID:25330-1818932400-1818936000@centralunionchurch.org
SUMMARY:11 AM Contemporary Worship Service
DESCRIPTION:Join us for our contemporary worship service in the Parish Hall! \n 
URL:https://centralunionchurch.org/event/11-worship/2027-08-22/
LOCATION:Parish Hall
CATEGORIES:Church Service,CUC
ATTACH;FMTTYPE=image/jpeg:https://centralunionchurch.org/wp-content/uploads/2023/07/11am-worship-CUC-Christ-beside-us-holding-hands-1-scaled.jpg
END:VEVENT
BEGIN:VEVENT
DTSTART;TZID=Pacific/Honolulu:20270829T070000
DTEND;TZID=Pacific/Honolulu:20270829T080000
DTSTAMP:20260420T230203
CREATED:20250116T040125Z
LAST-MODIFIED:20250116T040125Z
UID:24015-1819522800-1819526400@centralunionchurch.org
SUMMARY:7 AM Traditional Worship Service
DESCRIPTION:Start your day with worship!
URL:https://centralunionchurch.org/event/7am-worship/2027-08-29/
LOCATION:Atherton Chapel
CATEGORIES:Church Service
ATTACH;FMTTYPE=image/jpeg:https://centralunionchurch.org/wp-content/uploads/2024/01/Atherton-Chapel-CUC-outside-front-scaled.jpg
END:VEVENT
BEGIN:VEVENT
DTSTART;TZID=Pacific/Honolulu:20270829T090000
DTEND;TZID=Pacific/Honolulu:20270829T100000
DTSTAMP:20260420T230203
CREATED:20250116T041053Z
LAST-MODIFIED:20260313T014949Z
UID:24016-1819530000-1819533600@centralunionchurch.org
SUMMARY:9 AM Traditional Worship Service
DESCRIPTION:Worship with us in our Sanctuary! \nCan’t make it in person? View the live stream on YouTube!
URL:https://centralunionchurch.org/event/9am-worship-2026-04-05/2027-08-29/
LOCATION:Sanctuary
CATEGORIES:Church Service
ATTACH;FMTTYPE=image/jpeg:https://centralunionchurch.org/wp-content/uploads/2023/07/Easter-2022-CUC-sanctuary-scaled.jpg
END:VEVENT
BEGIN:VEVENT
DTSTART;TZID=Pacific/Honolulu:20270829T110000
DTEND;TZID=Pacific/Honolulu:20270829T120000
DTSTAMP:20260420T230203
CREATED:20260313T015447Z
LAST-MODIFIED:20260313T022342Z
UID:25331-1819537200-1819540800@centralunionchurch.org
SUMMARY:11 AM Contemporary Worship Service
DESCRIPTION:Join us for our contemporary worship service in the Parish Hall! \n 
URL:https://centralunionchurch.org/event/11-worship/2027-08-29/
LOCATION:Parish Hall
CATEGORIES:Church Service,CUC
ATTACH;FMTTYPE=image/jpeg:https://centralunionchurch.org/wp-content/uploads/2023/07/11am-worship-CUC-Christ-beside-us-holding-hands-1-scaled.jpg
END:VEVENT
BEGIN:VEVENT
DTSTART;TZID=Pacific/Honolulu:20270905T070000
DTEND;TZID=Pacific/Honolulu:20270905T080000
DTSTAMP:20260420T230203
CREATED:20250116T040125Z
LAST-MODIFIED:20250116T040125Z
UID:24080-1820127600-1820131200@centralunionchurch.org
SUMMARY:7 AM Traditional Worship Service
DESCRIPTION:Start your day with worship!
URL:https://centralunionchurch.org/event/7am-worship/2027-09-05/
LOCATION:Atherton Chapel
CATEGORIES:Church Service
ATTACH;FMTTYPE=image/jpeg:https://centralunionchurch.org/wp-content/uploads/2024/01/Atherton-Chapel-CUC-outside-front-scaled.jpg
END:VEVENT
BEGIN:VEVENT
DTSTART;TZID=Pacific/Honolulu:20270905T090000
DTEND;TZID=Pacific/Honolulu:20270905T100000
DTSTAMP:20260420T230203
CREATED:20250116T041053Z
LAST-MODIFIED:20260313T014950Z
UID:24081-1820134800-1820138400@centralunionchurch.org
SUMMARY:9 AM Traditional Worship Service
DESCRIPTION:Worship with us in our Sanctuary! \nCan’t make it in person? View the live stream on YouTube!
URL:https://centralunionchurch.org/event/9am-worship-2026-04-05/2027-09-05/
LOCATION:Sanctuary
CATEGORIES:Church Service
ATTACH;FMTTYPE=image/jpeg:https://centralunionchurch.org/wp-content/uploads/2023/07/Easter-2022-CUC-sanctuary-scaled.jpg
END:VEVENT
BEGIN:VEVENT
DTSTART;TZID=Pacific/Honolulu:20270905T110000
DTEND;TZID=Pacific/Honolulu:20270905T120000
DTSTAMP:20260420T230203
CREATED:20260313T015447Z
LAST-MODIFIED:20260313T022342Z
UID:25332-1820142000-1820145600@centralunionchurch.org
SUMMARY:11 AM Contemporary Worship Service
DESCRIPTION:Join us for our contemporary worship service in the Parish Hall! \n 
URL:https://centralunionchurch.org/event/11-worship/2027-09-05/
LOCATION:Parish Hall
CATEGORIES:Church Service,CUC
ATTACH;FMTTYPE=image/jpeg:https://centralunionchurch.org/wp-content/uploads/2023/07/11am-worship-CUC-Christ-beside-us-holding-hands-1-scaled.jpg
END:VEVENT
BEGIN:VEVENT
DTSTART;TZID=Pacific/Honolulu:20270912T070000
DTEND;TZID=Pacific/Honolulu:20270912T080000
DTSTAMP:20260420T230203
CREATED:20250116T040125Z
LAST-MODIFIED:20250116T040125Z
UID:24125-1820732400-1820736000@centralunionchurch.org
SUMMARY:7 AM Traditional Worship Service
DESCRIPTION:Start your day with worship!
URL:https://centralunionchurch.org/event/7am-worship/2027-09-12/
LOCATION:Atherton Chapel
CATEGORIES:Church Service
ATTACH;FMTTYPE=image/jpeg:https://centralunionchurch.org/wp-content/uploads/2024/01/Atherton-Chapel-CUC-outside-front-scaled.jpg
END:VEVENT
BEGIN:VEVENT
DTSTART;TZID=Pacific/Honolulu:20270912T090000
DTEND;TZID=Pacific/Honolulu:20270912T100000
DTSTAMP:20260420T230203
CREATED:20250116T041053Z
LAST-MODIFIED:20260313T014950Z
UID:24126-1820739600-1820743200@centralunionchurch.org
SUMMARY:9 AM Traditional Worship Service
DESCRIPTION:Worship with us in our Sanctuary! \nCan’t make it in person? View the live stream on YouTube!
URL:https://centralunionchurch.org/event/9am-worship-2026-04-05/2027-09-12/
LOCATION:Sanctuary
CATEGORIES:Church Service
ATTACH;FMTTYPE=image/jpeg:https://centralunionchurch.org/wp-content/uploads/2023/07/Easter-2022-CUC-sanctuary-scaled.jpg
END:VEVENT
BEGIN:VEVENT
DTSTART;TZID=Pacific/Honolulu:20270912T110000
DTEND;TZID=Pacific/Honolulu:20270912T120000
DTSTAMP:20260420T230203
CREATED:20260313T015447Z
LAST-MODIFIED:20260313T022342Z
UID:25333-1820746800-1820750400@centralunionchurch.org
SUMMARY:11 AM Contemporary Worship Service
DESCRIPTION:Join us for our contemporary worship service in the Parish Hall! \n 
URL:https://centralunionchurch.org/event/11-worship/2027-09-12/
LOCATION:Parish Hall
CATEGORIES:Church Service,CUC
ATTACH;FMTTYPE=image/jpeg:https://centralunionchurch.org/wp-content/uploads/2023/07/11am-worship-CUC-Christ-beside-us-holding-hands-1-scaled.jpg
END:VEVENT
BEGIN:VEVENT
DTSTART;TZID=Pacific/Honolulu:20270919T070000
DTEND;TZID=Pacific/Honolulu:20270919T080000
DTSTAMP:20260420T230203
CREATED:20250116T040125Z
LAST-MODIFIED:20250116T040125Z
UID:24193-1821337200-1821340800@centralunionchurch.org
SUMMARY:7 AM Traditional Worship Service
DESCRIPTION:Start your day with worship!
URL:https://centralunionchurch.org/event/7am-worship/2027-09-19/
LOCATION:Atherton Chapel
CATEGORIES:Church Service
ATTACH;FMTTYPE=image/jpeg:https://centralunionchurch.org/wp-content/uploads/2024/01/Atherton-Chapel-CUC-outside-front-scaled.jpg
END:VEVENT
BEGIN:VEVENT
DTSTART;TZID=Pacific/Honolulu:20270919T090000
DTEND;TZID=Pacific/Honolulu:20270919T100000
DTSTAMP:20260420T230203
CREATED:20250116T041053Z
LAST-MODIFIED:20260313T014950Z
UID:24194-1821344400-1821348000@centralunionchurch.org
SUMMARY:9 AM Traditional Worship Service
DESCRIPTION:Worship with us in our Sanctuary! \nCan’t make it in person? View the live stream on YouTube!
URL:https://centralunionchurch.org/event/9am-worship-2026-04-05/2027-09-19/
LOCATION:Sanctuary
CATEGORIES:Church Service
ATTACH;FMTTYPE=image/jpeg:https://centralunionchurch.org/wp-content/uploads/2023/07/Easter-2022-CUC-sanctuary-scaled.jpg
END:VEVENT
BEGIN:VEVENT
DTSTART;TZID=Pacific/Honolulu:20270919T110000
DTEND;TZID=Pacific/Honolulu:20270919T120000
DTSTAMP:20260420T230203
CREATED:20260313T015447Z
LAST-MODIFIED:20260313T022343Z
UID:25334-1821351600-1821355200@centralunionchurch.org
SUMMARY:11 AM Contemporary Worship Service
DESCRIPTION:Join us for our contemporary worship service in the Parish Hall! \n 
URL:https://centralunionchurch.org/event/11-worship/2027-09-19/
LOCATION:Parish Hall
CATEGORIES:Church Service,CUC
ATTACH;FMTTYPE=image/jpeg:https://centralunionchurch.org/wp-content/uploads/2023/07/11am-worship-CUC-Christ-beside-us-holding-hands-1-scaled.jpg
END:VEVENT
BEGIN:VEVENT
DTSTART;TZID=Pacific/Honolulu:20270926T070000
DTEND;TZID=Pacific/Honolulu:20270926T080000
DTSTAMP:20260420T230203
CREATED:20250116T040125Z
LAST-MODIFIED:20250116T040125Z
UID:24258-1821942000-1821945600@centralunionchurch.org
SUMMARY:7 AM Traditional Worship Service
DESCRIPTION:Start your day with worship!
URL:https://centralunionchurch.org/event/7am-worship/2027-09-26/
LOCATION:Atherton Chapel
CATEGORIES:Church Service
ATTACH;FMTTYPE=image/jpeg:https://centralunionchurch.org/wp-content/uploads/2024/01/Atherton-Chapel-CUC-outside-front-scaled.jpg
END:VEVENT
BEGIN:VEVENT
DTSTART;TZID=Pacific/Honolulu:20270926T090000
DTEND;TZID=Pacific/Honolulu:20270926T100000
DTSTAMP:20260420T230203
CREATED:20250116T041053Z
LAST-MODIFIED:20260313T014951Z
UID:24259-1821949200-1821952800@centralunionchurch.org
SUMMARY:9 AM Traditional Worship Service
DESCRIPTION:Worship with us in our Sanctuary! \nCan’t make it in person? View the live stream on YouTube!
URL:https://centralunionchurch.org/event/9am-worship-2026-04-05/2027-09-26/
LOCATION:Sanctuary
CATEGORIES:Church Service
ATTACH;FMTTYPE=image/jpeg:https://centralunionchurch.org/wp-content/uploads/2023/07/Easter-2022-CUC-sanctuary-scaled.jpg
END:VEVENT
BEGIN:VEVENT
DTSTART;TZID=Pacific/Honolulu:20270926T110000
DTEND;TZID=Pacific/Honolulu:20270926T120000
DTSTAMP:20260420T230203
CREATED:20260313T015447Z
LAST-MODIFIED:20260313T022343Z
UID:25335-1821956400-1821960000@centralunionchurch.org
SUMMARY:11 AM Contemporary Worship Service
DESCRIPTION:Join us for our contemporary worship service in the Parish Hall! \n 
URL:https://centralunionchurch.org/event/11-worship/2027-09-26/
LOCATION:Parish Hall
CATEGORIES:Church Service,CUC
ATTACH;FMTTYPE=image/jpeg:https://centralunionchurch.org/wp-content/uploads/2023/07/11am-worship-CUC-Christ-beside-us-holding-hands-1-scaled.jpg
END:VEVENT
BEGIN:VEVENT
DTSTART;TZID=Pacific/Honolulu:20271003T070000
DTEND;TZID=Pacific/Honolulu:20271003T080000
DTSTAMP:20260420T230203
CREATED:20250116T040125Z
LAST-MODIFIED:20250116T040125Z
UID:24302-1822546800-1822550400@centralunionchurch.org
SUMMARY:7 AM Traditional Worship Service
DESCRIPTION:Start your day with worship!
URL:https://centralunionchurch.org/event/7am-worship/2027-10-03/
LOCATION:Atherton Chapel
CATEGORIES:Church Service
ATTACH;FMTTYPE=image/jpeg:https://centralunionchurch.org/wp-content/uploads/2024/01/Atherton-Chapel-CUC-outside-front-scaled.jpg
END:VEVENT
BEGIN:VEVENT
DTSTART;TZID=Pacific/Honolulu:20271003T090000
DTEND;TZID=Pacific/Honolulu:20271003T100000
DTSTAMP:20260420T230203
CREATED:20250116T041053Z
LAST-MODIFIED:20260313T014951Z
UID:24303-1822554000-1822557600@centralunionchurch.org
SUMMARY:9 AM Traditional Worship Service
DESCRIPTION:Worship with us in our Sanctuary! \nCan’t make it in person? View the live stream on YouTube!
URL:https://centralunionchurch.org/event/9am-worship-2026-04-05/2027-10-03/
LOCATION:Sanctuary
CATEGORIES:Church Service
ATTACH;FMTTYPE=image/jpeg:https://centralunionchurch.org/wp-content/uploads/2023/07/Easter-2022-CUC-sanctuary-scaled.jpg
END:VEVENT
BEGIN:VEVENT
DTSTART;TZID=Pacific/Honolulu:20271003T110000
DTEND;TZID=Pacific/Honolulu:20271003T120000
DTSTAMP:20260420T230203
CREATED:20260313T015447Z
LAST-MODIFIED:20260313T022343Z
UID:25336-1822561200-1822564800@centralunionchurch.org
SUMMARY:11 AM Contemporary Worship Service
DESCRIPTION:Join us for our contemporary worship service in the Parish Hall! \n 
URL:https://centralunionchurch.org/event/11-worship/2027-10-03/
LOCATION:Parish Hall
CATEGORIES:Church Service,CUC
ATTACH;FMTTYPE=image/jpeg:https://centralunionchurch.org/wp-content/uploads/2023/07/11am-worship-CUC-Christ-beside-us-holding-hands-1-scaled.jpg
END:VEVENT
BEGIN:VEVENT
DTSTART;TZID=Pacific/Honolulu:20271010T070000
DTEND;TZID=Pacific/Honolulu:20271010T080000
DTSTAMP:20260420T230203
CREATED:20250116T040125Z
LAST-MODIFIED:20250116T040125Z
UID:24338-1823151600-1823155200@centralunionchurch.org
SUMMARY:7 AM Traditional Worship Service
DESCRIPTION:Start your day with worship!
URL:https://centralunionchurch.org/event/7am-worship/2027-10-10/
LOCATION:Atherton Chapel
CATEGORIES:Church Service
ATTACH;FMTTYPE=image/jpeg:https://centralunionchurch.org/wp-content/uploads/2024/01/Atherton-Chapel-CUC-outside-front-scaled.jpg
END:VEVENT
BEGIN:VEVENT
DTSTART;TZID=Pacific/Honolulu:20271010T090000
DTEND;TZID=Pacific/Honolulu:20271010T100000
DTSTAMP:20260420T230203
CREATED:20250116T041053Z
LAST-MODIFIED:20260313T014951Z
UID:24339-1823158800-1823162400@centralunionchurch.org
SUMMARY:9 AM Traditional Worship Service
DESCRIPTION:Worship with us in our Sanctuary! \nCan’t make it in person? View the live stream on YouTube!
URL:https://centralunionchurch.org/event/9am-worship-2026-04-05/2027-10-10/
LOCATION:Sanctuary
CATEGORIES:Church Service
ATTACH;FMTTYPE=image/jpeg:https://centralunionchurch.org/wp-content/uploads/2023/07/Easter-2022-CUC-sanctuary-scaled.jpg
END:VEVENT
BEGIN:VEVENT
DTSTART;TZID=Pacific/Honolulu:20271010T110000
DTEND;TZID=Pacific/Honolulu:20271010T120000
DTSTAMP:20260420T230203
CREATED:20260313T015447Z
LAST-MODIFIED:20260313T022344Z
UID:25337-1823166000-1823169600@centralunionchurch.org
SUMMARY:11 AM Contemporary Worship Service
DESCRIPTION:Join us for our contemporary worship service in the Parish Hall! \n 
URL:https://centralunionchurch.org/event/11-worship/2027-10-10/
LOCATION:Parish Hall
CATEGORIES:Church Service,CUC
ATTACH;FMTTYPE=image/jpeg:https://centralunionchurch.org/wp-content/uploads/2023/07/11am-worship-CUC-Christ-beside-us-holding-hands-1-scaled.jpg
END:VEVENT
END:VCALENDAR