BEGIN:VCALENDAR
VERSION:2.0
PRODID:-//Central Union Church - ECPv6.15.20//NONSGML v1.0//EN
CALSCALE:GREGORIAN
METHOD:PUBLISH
X-WR-CALNAME:Central Union Church
X-ORIGINAL-URL:https://centralunionchurch.org
X-WR-CALDESC:Events for Central Union Church
REFRESH-INTERVAL;VALUE=DURATION:PT1H
X-Robots-Tag:noindex
X-PUBLISHED-TTL:PT1H
BEGIN:VTIMEZONE
TZID:Pacific/Honolulu
BEGIN:STANDARD
TZOFFSETFROM:-1000
TZOFFSETTO:-1000
TZNAME:HST
DTSTART:20240101T000000
END:STANDARD
END:VTIMEZONE
BEGIN:VEVENT
DTSTART;TZID=Pacific/Honolulu:20251109T110000
DTEND;TZID=Pacific/Honolulu:20251109T120000
DTSTAMP:20260425T054922
CREATED:20250402T060731Z
LAST-MODIFIED:20250402T060731Z
UID:23929-1762686000-1762689600@centralunionchurch.org
SUMMARY:11 AM Contemporary Worship
DESCRIPTION:Join us on Sundays at 11 AM for our contemporary worship service in the Parish Hall!
URL:https://centralunionchurch.org/event/11am-worship-2/2025-11-09/
LOCATION:Parish Hall
CATEGORIES:Church Service,CUC
ATTACH;FMTTYPE=image/jpeg:https://centralunionchurch.org/wp-content/uploads/2023/07/11am-worship-CUC-Christ-beside-us-holding-hands-1-scaled.jpg
END:VEVENT
END:VCALENDAR