BEGIN:VCALENDAR
VERSION:2.0
PRODID:-//Central Union Church - ECPv6.15.20//NONSGML v1.0//EN
CALSCALE:GREGORIAN
METHOD:PUBLISH
X-ORIGINAL-URL:https://centralunionchurch.org
X-WR-CALDESC:Events for Central Union Church
REFRESH-INTERVAL;VALUE=DURATION:PT1H
X-Robots-Tag:noindex
X-PUBLISHED-TTL:PT1H
BEGIN:VTIMEZONE
TZID:Pacific/Honolulu
BEGIN:STANDARD
TZOFFSETFROM:-1000
TZOFFSETTO:-1000
TZNAME:HST
DTSTART:20250101T000000
END:STANDARD
END:VTIMEZONE
BEGIN:VEVENT
DTSTART;TZID=Pacific/Honolulu:20260111T100000
DTEND;TZID=Pacific/Honolulu:20260111T110000
DTSTAMP:20260423T055540
CREATED:20251211T015003Z
LAST-MODIFIED:20260109T020221Z
UID:24724-1768125600-1768129200@centralunionchurch.org
SUMMARY:Learning Tree: Why Vaccines Are Vital
DESCRIPTION:Attend this informative presentation on the importance of vaccines as vaccine requirements are being changed. Know someone unsure of vaccines? Invite them to address their questions and concerns. \nShould I get vaccinated? Should I believe the protestations by Robert Kennedy Jr.\, Secretary of Health and Human Services? Should I believe the info I see online\, on social media? What’s the real science behind vaccines? Bring your concerns\, questions\, and fears and learn about how vaccines have changed the course of history of infectious diseases and saved hundreds of millions of lives. \nJoe Elm will share his 50 years of medical and scientific experience in The National Institute of Allergy and Infectious Diseases Laboratory at Leahi Hospital; the Department of Tropical Medicine in the John A. Burns School of Medicine; and the Disease Investigation Branch at the Hawaii State Department of Health. \nThe following testimony is from a concerned mother and grandmother who shares her perspective on the importance of vaccines: \n\nSubacute Sclerosing Panencephalitis — You haven’t heard of this disease\, even though it occurs in developing countries\, because we haven’t had it in the U.S. for over half a century because we have vaccines! \nIt is fatal and has no cure. It has no treatment (except a few to temporarily relieve symptoms). The disease generally occurs in children and adolescents. \nHowever\, it is totally preventable with measles vaccines given in infancy. With recent changes to federal vaccine recommendations for entering school\, we can expect this disease to start appearing in the U.S. in about ten years (in unvaccinated children who are babies right now). \nThe infection usually begins in infancy but doesn’t show symptoms until about age 10. The brain is affected and the child deteriorates over the following few years\, generally dying in their teenage years. \nIf the mandatory measles vaccine is not reinstated now\, we can expect to see Subacute Sclerosing Panencephalitis appearing in the U.S. in about 2035. \nSuch a preventable tragedy of the most horrific kind.
URL:https://centralunionchurch.org/event/learning-tree-2025-01-11/
LOCATION:Women’s Building
CATEGORIES:CUC,Faith Formation,Learning Tree
ATTACH;FMTTYPE=image/jpeg:https://centralunionchurch.org/wp-content/uploads/2025/12/Why-Vaccines-Are-Vital-Learning-Tree-1.11.26.jpg
END:VEVENT
END:VCALENDAR