BEGIN:VCALENDAR
VERSION:2.0
PRODID:-//Central Union Church - ECPv6.15.20//NONSGML v1.0//EN
CALSCALE:GREGORIAN
METHOD:PUBLISH
X-ORIGINAL-URL:https://centralunionchurch.org
X-WR-CALDESC:Events for Central Union Church
REFRESH-INTERVAL;VALUE=DURATION:PT1H
X-Robots-Tag:noindex
X-PUBLISHED-TTL:PT1H
BEGIN:VTIMEZONE
TZID:Pacific/Honolulu
BEGIN:STANDARD
TZOFFSETFROM:-1000
TZOFFSETTO:-1000
TZNAME:HST
DTSTART:20250101T000000
END:STANDARD
END:VTIMEZONE
BEGIN:VEVENT
DTSTART;TZID=Pacific/Honolulu:20260207T090000
DTEND;TZID=Pacific/Honolulu:20260207T230000
DTSTAMP:20260423T023143
CREATED:20260205T042926Z
LAST-MODIFIED:20260205T042926Z
UID:24991-1770454800-1770505200@centralunionchurch.org
SUMMARY:Youth Parking Fundraiser
DESCRIPTION:Heading to the Punahou Carnival this weekend? Come park on our campus and support our youth while you’re at it! The Punahou Carnival will be open this Friday and Saturday (February 6 and 7) from 11 AM – 10 PM on both days.  \n Parking will be available in the neighborhood including at Central Union Church (1660 S. Beretania Street) during the following times: Friday\, Feb. 6 |  6:30 AM – 11 PM Saturday\, Feb. 7 |  9:00 AM – 11 PM The cost is $20 per vehicle entrance (cash only). Vehicles should enter via Punahou Street and may stay parked for the entire day\, with in and out privileges which are dependent on the availability of spaces at the time of reentry. Parking spots will not be saved\, drivers must wait in line for the next available spot\, but will not need to pay to reenter. For parking updates\, check our Instagram or Facebook story.  Vehicles may remain parked shortly after the carnival closes\, but please be aware that there will be no parking attendant or security on campus after 10 PM. All funds raised will go toward Central Union Church youth activities\, and give youth an opportunity to give back to the community through donations.
URL:https://centralunionchurch.org/event/youth-parking-fundraiser-2026/2026-02-07/
LOCATION:Great Lawn\, 1660 S. Beretania Street\, Honolulu\, 96826
CATEGORIES:CUC,Youngish
ATTACH;FMTTYPE=image/jpeg:https://centralunionchurch.org/wp-content/uploads/2026/02/CARNIVAL-PARKING-2026.jpeg
END:VEVENT
END:VCALENDAR