BEGIN:VCALENDAR
VERSION:2.0
PRODID:-//Central Union Church - ECPv6.15.20//NONSGML v1.0//EN
CALSCALE:GREGORIAN
METHOD:PUBLISH
X-WR-CALNAME:Central Union Church
X-ORIGINAL-URL:https://centralunionchurch.org
X-WR-CALDESC:Events for Central Union Church
REFRESH-INTERVAL;VALUE=DURATION:PT1H
X-Robots-Tag:noindex
X-PUBLISHED-TTL:PT1H
BEGIN:VTIMEZONE
TZID:Pacific/Honolulu
BEGIN:STANDARD
TZOFFSETFROM:-1000
TZOFFSETTO:-1000
TZNAME:HST
DTSTART:20250101T000000
END:STANDARD
END:VTIMEZONE
BEGIN:VEVENT
DTSTART;TZID=Pacific/Honolulu:20260402T173000
DTEND;TZID=Pacific/Honolulu:20260402T193000
DTSTAMP:20260421T105031
CREATED:20260313T011619Z
LAST-MODIFIED:20260313T013456Z
UID:25167-1775151000-1775158200@centralunionchurch.org
SUMMARY:Maundy Thursday Service & Supper
DESCRIPTION:“Maundy” comes from the Latin term mandatum or mandate\, referring to Jesus’ commandment to his disciples to love one another. Join us on Maundy Thursday for a simple community meal and time of contemplation as we remember Jesus’ last meal with his disciples. \nDinner will be provided so please RSVP by March 27. \nRSVP online at this link: bit.ly/maundy2026 \nOR call the church office: 808-440-3004 (Natasha Dator)
URL:https://centralunionchurch.org/event/maundy-thursday-2026/
LOCATION:Parish Hall
CATEGORIES:Church Service,CUC
ATTACH;FMTTYPE=image/jpeg:https://centralunionchurch.org/wp-content/uploads/2026/03/Maundy-Thursday-2026.jpg
END:VEVENT
END:VCALENDAR