BEGIN:VCALENDAR
VERSION:2.0
PRODID:-//Central Union Church - ECPv6.15.20//NONSGML v1.0//EN
CALSCALE:GREGORIAN
METHOD:PUBLISH
X-WR-CALNAME:Central Union Church
X-ORIGINAL-URL:https://centralunionchurch.org
X-WR-CALDESC:Events for Central Union Church
REFRESH-INTERVAL;VALUE=DURATION:PT1H
X-Robots-Tag:noindex
X-PUBLISHED-TTL:PT1H
BEGIN:VTIMEZONE
TZID:Pacific/Honolulu
BEGIN:STANDARD
TZOFFSETFROM:-1000
TZOFFSETTO:-1000
TZNAME:HST
DTSTART:20270101T000000
END:STANDARD
END:VTIMEZONE
BEGIN:VEVENT
DTSTART;TZID=Pacific/Honolulu:20280116T110000
DTEND;TZID=Pacific/Honolulu:20280116T120000
DTSTAMP:20260422T082204
CREATED:20260313T015447Z
LAST-MODIFIED:20260313T022350Z
UID:25351-1831633200-1831636800@centralunionchurch.org
SUMMARY:11 AM Contemporary Worship Service
DESCRIPTION:Join us for our contemporary worship service in the Parish Hall! \n 
URL:https://centralunionchurch.org/event/11-worship/2028-01-16/
LOCATION:Parish Hall
CATEGORIES:Church Service,CUC
ATTACH;FMTTYPE=image/jpeg:https://centralunionchurch.org/wp-content/uploads/2023/07/11am-worship-CUC-Christ-beside-us-holding-hands-1-scaled.jpg
END:VEVENT
BEGIN:VEVENT
DTSTART;TZID=Pacific/Honolulu:20280123T110000
DTEND;TZID=Pacific/Honolulu:20280123T120000
DTSTAMP:20260422T082204
CREATED:20260313T015447Z
LAST-MODIFIED:20260313T022350Z
UID:25352-1832238000-1832241600@centralunionchurch.org
SUMMARY:11 AM Contemporary Worship Service
DESCRIPTION:Join us for our contemporary worship service in the Parish Hall! \n 
URL:https://centralunionchurch.org/event/11-worship/2028-01-23/
LOCATION:Parish Hall
CATEGORIES:Church Service,CUC
ATTACH;FMTTYPE=image/jpeg:https://centralunionchurch.org/wp-content/uploads/2023/07/11am-worship-CUC-Christ-beside-us-holding-hands-1-scaled.jpg
END:VEVENT
BEGIN:VEVENT
DTSTART;TZID=Pacific/Honolulu:20280130T110000
DTEND;TZID=Pacific/Honolulu:20280130T120000
DTSTAMP:20260422T082204
CREATED:20260313T015447Z
LAST-MODIFIED:20260313T022351Z
UID:25353-1832842800-1832846400@centralunionchurch.org
SUMMARY:11 AM Contemporary Worship Service
DESCRIPTION:Join us for our contemporary worship service in the Parish Hall! \n 
URL:https://centralunionchurch.org/event/11-worship/2028-01-30/
LOCATION:Parish Hall
CATEGORIES:Church Service,CUC
ATTACH;FMTTYPE=image/jpeg:https://centralunionchurch.org/wp-content/uploads/2023/07/11am-worship-CUC-Christ-beside-us-holding-hands-1-scaled.jpg
END:VEVENT
BEGIN:VEVENT
DTSTART;TZID=Pacific/Honolulu:20280206T110000
DTEND;TZID=Pacific/Honolulu:20280206T120000
DTSTAMP:20260422T082204
CREATED:20260313T015447Z
LAST-MODIFIED:20260313T022351Z
UID:25354-1833447600-1833451200@centralunionchurch.org
SUMMARY:11 AM Contemporary Worship Service
DESCRIPTION:Join us for our contemporary worship service in the Parish Hall! \n 
URL:https://centralunionchurch.org/event/11-worship/2028-02-06/
LOCATION:Parish Hall
CATEGORIES:Church Service,CUC
ATTACH;FMTTYPE=image/jpeg:https://centralunionchurch.org/wp-content/uploads/2023/07/11am-worship-CUC-Christ-beside-us-holding-hands-1-scaled.jpg
END:VEVENT
BEGIN:VEVENT
DTSTART;TZID=Pacific/Honolulu:20280213T110000
DTEND;TZID=Pacific/Honolulu:20280213T120000
DTSTAMP:20260422T082204
CREATED:20260313T015447Z
LAST-MODIFIED:20260313T022351Z
UID:25355-1834052400-1834056000@centralunionchurch.org
SUMMARY:11 AM Contemporary Worship Service
DESCRIPTION:Join us for our contemporary worship service in the Parish Hall! \n 
URL:https://centralunionchurch.org/event/11-worship/2028-02-13/
LOCATION:Parish Hall
CATEGORIES:Church Service,CUC
ATTACH;FMTTYPE=image/jpeg:https://centralunionchurch.org/wp-content/uploads/2023/07/11am-worship-CUC-Christ-beside-us-holding-hands-1-scaled.jpg
END:VEVENT
BEGIN:VEVENT
DTSTART;TZID=Pacific/Honolulu:20280220T110000
DTEND;TZID=Pacific/Honolulu:20280220T120000
DTSTAMP:20260422T082204
CREATED:20260313T015447Z
LAST-MODIFIED:20260313T022352Z
UID:25356-1834657200-1834660800@centralunionchurch.org
SUMMARY:11 AM Contemporary Worship Service
DESCRIPTION:Join us for our contemporary worship service in the Parish Hall! \n 
URL:https://centralunionchurch.org/event/11-worship/2028-02-20/
LOCATION:Parish Hall
CATEGORIES:Church Service,CUC
ATTACH;FMTTYPE=image/jpeg:https://centralunionchurch.org/wp-content/uploads/2023/07/11am-worship-CUC-Christ-beside-us-holding-hands-1-scaled.jpg
END:VEVENT
BEGIN:VEVENT
DTSTART;TZID=Pacific/Honolulu:20280227T110000
DTEND;TZID=Pacific/Honolulu:20280227T120000
DTSTAMP:20260422T082204
CREATED:20260313T015447Z
LAST-MODIFIED:20260313T022352Z
UID:25357-1835262000-1835265600@centralunionchurch.org
SUMMARY:11 AM Contemporary Worship Service
DESCRIPTION:Join us for our contemporary worship service in the Parish Hall! \n 
URL:https://centralunionchurch.org/event/11-worship/2028-02-27/
LOCATION:Parish Hall
CATEGORIES:Church Service,CUC
ATTACH;FMTTYPE=image/jpeg:https://centralunionchurch.org/wp-content/uploads/2023/07/11am-worship-CUC-Christ-beside-us-holding-hands-1-scaled.jpg
END:VEVENT
BEGIN:VEVENT
DTSTART;TZID=Pacific/Honolulu:20280305T110000
DTEND;TZID=Pacific/Honolulu:20280305T120000
DTSTAMP:20260422T082204
CREATED:20260313T015447Z
LAST-MODIFIED:20260313T022353Z
UID:25358-1835866800-1835870400@centralunionchurch.org
SUMMARY:11 AM Contemporary Worship Service
DESCRIPTION:Join us for our contemporary worship service in the Parish Hall! \n 
URL:https://centralunionchurch.org/event/11-worship/2028-03-05/
LOCATION:Parish Hall
CATEGORIES:Church Service,CUC
ATTACH;FMTTYPE=image/jpeg:https://centralunionchurch.org/wp-content/uploads/2023/07/11am-worship-CUC-Christ-beside-us-holding-hands-1-scaled.jpg
END:VEVENT
BEGIN:VEVENT
DTSTART;TZID=Pacific/Honolulu:20280312T110000
DTEND;TZID=Pacific/Honolulu:20280312T120000
DTSTAMP:20260422T082204
CREATED:20260313T015447Z
LAST-MODIFIED:20260313T015447Z
UID:25476-1836471600-1836475200@centralunionchurch.org
SUMMARY:11 AM Contemporary Worship Service
DESCRIPTION:Join us for our contemporary worship service in the Parish Hall! \n 
URL:https://centralunionchurch.org/event/11-worship/2028-03-12/
LOCATION:Parish Hall
CATEGORIES:Church Service,CUC
ATTACH;FMTTYPE=image/jpeg:https://centralunionchurch.org/wp-content/uploads/2023/07/11am-worship-CUC-Christ-beside-us-holding-hands-1-scaled.jpg
END:VEVENT
BEGIN:VEVENT
DTSTART;TZID=Pacific/Honolulu:20280319T110000
DTEND;TZID=Pacific/Honolulu:20280319T120000
DTSTAMP:20260422T082204
CREATED:20260313T015447Z
LAST-MODIFIED:20260313T015447Z
UID:25515-1837076400-1837080000@centralunionchurch.org
SUMMARY:11 AM Contemporary Worship Service
DESCRIPTION:Join us for our contemporary worship service in the Parish Hall! \n 
URL:https://centralunionchurch.org/event/11-worship/2028-03-19/
LOCATION:Parish Hall
CATEGORIES:Church Service,CUC
ATTACH;FMTTYPE=image/jpeg:https://centralunionchurch.org/wp-content/uploads/2023/07/11am-worship-CUC-Christ-beside-us-holding-hands-1-scaled.jpg
END:VEVENT
BEGIN:VEVENT
DTSTART;TZID=Pacific/Honolulu:20280326T110000
DTEND;TZID=Pacific/Honolulu:20280326T120000
DTSTAMP:20260422T082204
CREATED:20260313T015447Z
LAST-MODIFIED:20260313T015447Z
UID:25542-1837681200-1837684800@centralunionchurch.org
SUMMARY:11 AM Contemporary Worship Service
DESCRIPTION:Join us for our contemporary worship service in the Parish Hall! \n 
URL:https://centralunionchurch.org/event/11-worship/2028-03-26/
LOCATION:Parish Hall
CATEGORIES:Church Service,CUC
ATTACH;FMTTYPE=image/jpeg:https://centralunionchurch.org/wp-content/uploads/2023/07/11am-worship-CUC-Christ-beside-us-holding-hands-1-scaled.jpg
END:VEVENT
BEGIN:VEVENT
DTSTART;TZID=Pacific/Honolulu:20280402T110000
DTEND;TZID=Pacific/Honolulu:20280402T120000
DTSTAMP:20260422T082204
CREATED:20260313T015447Z
LAST-MODIFIED:20260313T015447Z
UID:25570-1838286000-1838289600@centralunionchurch.org
SUMMARY:11 AM Contemporary Worship Service
DESCRIPTION:Join us for our contemporary worship service in the Parish Hall! \n 
URL:https://centralunionchurch.org/event/11-worship/2028-04-02/
LOCATION:Parish Hall
CATEGORIES:Church Service,CUC
ATTACH;FMTTYPE=image/jpeg:https://centralunionchurch.org/wp-content/uploads/2023/07/11am-worship-CUC-Christ-beside-us-holding-hands-1-scaled.jpg
END:VEVENT
BEGIN:VEVENT
DTSTART;TZID=Pacific/Honolulu:20280409T110000
DTEND;TZID=Pacific/Honolulu:20280409T120000
DTSTAMP:20260422T082204
CREATED:20260313T015447Z
LAST-MODIFIED:20260313T015447Z
UID:25616-1838890800-1838894400@centralunionchurch.org
SUMMARY:11 AM Contemporary Worship Service
DESCRIPTION:Join us for our contemporary worship service in the Parish Hall! \n 
URL:https://centralunionchurch.org/event/11-worship/2028-04-09/
LOCATION:Parish Hall
CATEGORIES:Church Service,CUC
ATTACH;FMTTYPE=image/jpeg:https://centralunionchurch.org/wp-content/uploads/2023/07/11am-worship-CUC-Christ-beside-us-holding-hands-1-scaled.jpg
END:VEVENT
BEGIN:VEVENT
DTSTART;TZID=Pacific/Honolulu:20280416T110000
DTEND;TZID=Pacific/Honolulu:20280416T120000
DTSTAMP:20260422T082204
CREATED:20260313T015447Z
LAST-MODIFIED:20260313T015447Z
UID:25760-1839495600-1839499200@centralunionchurch.org
SUMMARY:11 AM Contemporary Worship Service
DESCRIPTION:Join us for our contemporary worship service in the Parish Hall! \n 
URL:https://centralunionchurch.org/event/11-worship/2028-04-16/
LOCATION:Parish Hall
CATEGORIES:Church Service,CUC
ATTACH;FMTTYPE=image/jpeg:https://centralunionchurch.org/wp-content/uploads/2023/07/11am-worship-CUC-Christ-beside-us-holding-hands-1-scaled.jpg
END:VEVENT
END:VCALENDAR