BEGIN:VCALENDAR
VERSION:2.0
PRODID:-//Central Union Church - ECPv6.15.20//NONSGML v1.0//EN
CALSCALE:GREGORIAN
METHOD:PUBLISH
X-WR-CALNAME:Central Union Church
X-ORIGINAL-URL:https://centralunionchurch.org
X-WR-CALDESC:Events for Central Union Church
REFRESH-INTERVAL;VALUE=DURATION:PT1H
X-Robots-Tag:noindex
X-PUBLISHED-TTL:PT1H
BEGIN:VTIMEZONE
TZID:Pacific/Honolulu
BEGIN:STANDARD
TZOFFSETFROM:-1000
TZOFFSETTO:-1000
TZNAME:HST
DTSTART:20260101T000000
END:STANDARD
END:VTIMEZONE
BEGIN:VEVENT
DTSTART;TZID=Pacific/Honolulu:20270131T110000
DTEND;TZID=Pacific/Honolulu:20270131T120000
DTSTAMP:20260421T234514
CREATED:20260313T015447Z
LAST-MODIFIED:20260313T022330Z
UID:25301-1801393200-1801396800@centralunionchurch.org
SUMMARY:11 AM Contemporary Worship Service
DESCRIPTION:Join us for our contemporary worship service in the Parish Hall! \n 
URL:https://centralunionchurch.org/event/11-worship/2027-01-31/
LOCATION:Parish Hall
CATEGORIES:Church Service,CUC
ATTACH;FMTTYPE=image/jpeg:https://centralunionchurch.org/wp-content/uploads/2023/07/11am-worship-CUC-Christ-beside-us-holding-hands-1-scaled.jpg
END:VEVENT
BEGIN:VEVENT
DTSTART;TZID=Pacific/Honolulu:20270207T110000
DTEND;TZID=Pacific/Honolulu:20270207T120000
DTSTAMP:20260421T234514
CREATED:20260313T015447Z
LAST-MODIFIED:20260313T022331Z
UID:25302-1801998000-1802001600@centralunionchurch.org
SUMMARY:11 AM Contemporary Worship Service
DESCRIPTION:Join us for our contemporary worship service in the Parish Hall! \n 
URL:https://centralunionchurch.org/event/11-worship/2027-02-07/
LOCATION:Parish Hall
CATEGORIES:Church Service,CUC
ATTACH;FMTTYPE=image/jpeg:https://centralunionchurch.org/wp-content/uploads/2023/07/11am-worship-CUC-Christ-beside-us-holding-hands-1-scaled.jpg
END:VEVENT
BEGIN:VEVENT
DTSTART;TZID=Pacific/Honolulu:20270214T110000
DTEND;TZID=Pacific/Honolulu:20270214T120000
DTSTAMP:20260421T234514
CREATED:20260313T015447Z
LAST-MODIFIED:20260313T022332Z
UID:25303-1802602800-1802606400@centralunionchurch.org
SUMMARY:11 AM Contemporary Worship Service
DESCRIPTION:Join us for our contemporary worship service in the Parish Hall! \n 
URL:https://centralunionchurch.org/event/11-worship/2027-02-14/
LOCATION:Parish Hall
CATEGORIES:Church Service,CUC
ATTACH;FMTTYPE=image/jpeg:https://centralunionchurch.org/wp-content/uploads/2023/07/11am-worship-CUC-Christ-beside-us-holding-hands-1-scaled.jpg
END:VEVENT
BEGIN:VEVENT
DTSTART;TZID=Pacific/Honolulu:20270221T110000
DTEND;TZID=Pacific/Honolulu:20270221T120000
DTSTAMP:20260421T234514
CREATED:20260313T015447Z
LAST-MODIFIED:20260313T022332Z
UID:25304-1803207600-1803211200@centralunionchurch.org
SUMMARY:11 AM Contemporary Worship Service
DESCRIPTION:Join us for our contemporary worship service in the Parish Hall! \n 
URL:https://centralunionchurch.org/event/11-worship/2027-02-21/
LOCATION:Parish Hall
CATEGORIES:Church Service,CUC
ATTACH;FMTTYPE=image/jpeg:https://centralunionchurch.org/wp-content/uploads/2023/07/11am-worship-CUC-Christ-beside-us-holding-hands-1-scaled.jpg
END:VEVENT
BEGIN:VEVENT
DTSTART;TZID=Pacific/Honolulu:20270228T110000
DTEND;TZID=Pacific/Honolulu:20270228T120000
DTSTAMP:20260421T234514
CREATED:20260313T015447Z
LAST-MODIFIED:20260313T022332Z
UID:25305-1803812400-1803816000@centralunionchurch.org
SUMMARY:11 AM Contemporary Worship Service
DESCRIPTION:Join us for our contemporary worship service in the Parish Hall! \n 
URL:https://centralunionchurch.org/event/11-worship/2027-02-28/
LOCATION:Parish Hall
CATEGORIES:Church Service,CUC
ATTACH;FMTTYPE=image/jpeg:https://centralunionchurch.org/wp-content/uploads/2023/07/11am-worship-CUC-Christ-beside-us-holding-hands-1-scaled.jpg
END:VEVENT
BEGIN:VEVENT
DTSTART;TZID=Pacific/Honolulu:20270307T110000
DTEND;TZID=Pacific/Honolulu:20270307T120000
DTSTAMP:20260421T234514
CREATED:20260313T015447Z
LAST-MODIFIED:20260313T022333Z
UID:25306-1804417200-1804420800@centralunionchurch.org
SUMMARY:11 AM Contemporary Worship Service
DESCRIPTION:Join us for our contemporary worship service in the Parish Hall! \n 
URL:https://centralunionchurch.org/event/11-worship/2027-03-07/
LOCATION:Parish Hall
CATEGORIES:Church Service,CUC
ATTACH;FMTTYPE=image/jpeg:https://centralunionchurch.org/wp-content/uploads/2023/07/11am-worship-CUC-Christ-beside-us-holding-hands-1-scaled.jpg
END:VEVENT
BEGIN:VEVENT
DTSTART;TZID=Pacific/Honolulu:20270314T110000
DTEND;TZID=Pacific/Honolulu:20270314T120000
DTSTAMP:20260421T234514
CREATED:20260313T015447Z
LAST-MODIFIED:20260313T022333Z
UID:25307-1805022000-1805025600@centralunionchurch.org
SUMMARY:11 AM Contemporary Worship Service
DESCRIPTION:Join us for our contemporary worship service in the Parish Hall! \n 
URL:https://centralunionchurch.org/event/11-worship/2027-03-14/
LOCATION:Parish Hall
CATEGORIES:Church Service,CUC
ATTACH;FMTTYPE=image/jpeg:https://centralunionchurch.org/wp-content/uploads/2023/07/11am-worship-CUC-Christ-beside-us-holding-hands-1-scaled.jpg
END:VEVENT
BEGIN:VEVENT
DTSTART;TZID=Pacific/Honolulu:20270321T110000
DTEND;TZID=Pacific/Honolulu:20270321T120000
DTSTAMP:20260421T234514
CREATED:20260313T015447Z
LAST-MODIFIED:20260313T022333Z
UID:25308-1805626800-1805630400@centralunionchurch.org
SUMMARY:11 AM Contemporary Worship Service
DESCRIPTION:Join us for our contemporary worship service in the Parish Hall! \n 
URL:https://centralunionchurch.org/event/11-worship/2027-03-21/
LOCATION:Parish Hall
CATEGORIES:Church Service,CUC
ATTACH;FMTTYPE=image/jpeg:https://centralunionchurch.org/wp-content/uploads/2023/07/11am-worship-CUC-Christ-beside-us-holding-hands-1-scaled.jpg
END:VEVENT
BEGIN:VEVENT
DTSTART;TZID=Pacific/Honolulu:20270328T110000
DTEND;TZID=Pacific/Honolulu:20270328T120000
DTSTAMP:20260421T234514
CREATED:20260313T015447Z
LAST-MODIFIED:20260313T022334Z
UID:25309-1806231600-1806235200@centralunionchurch.org
SUMMARY:11 AM Contemporary Worship Service
DESCRIPTION:Join us for our contemporary worship service in the Parish Hall! \n 
URL:https://centralunionchurch.org/event/11-worship/2027-03-28/
LOCATION:Parish Hall
CATEGORIES:Church Service,CUC
ATTACH;FMTTYPE=image/jpeg:https://centralunionchurch.org/wp-content/uploads/2023/07/11am-worship-CUC-Christ-beside-us-holding-hands-1-scaled.jpg
END:VEVENT
BEGIN:VEVENT
DTSTART;TZID=Pacific/Honolulu:20270404T110000
DTEND;TZID=Pacific/Honolulu:20270404T120000
DTSTAMP:20260421T234514
CREATED:20260313T015447Z
LAST-MODIFIED:20260313T022334Z
UID:25310-1806836400-1806840000@centralunionchurch.org
SUMMARY:11 AM Contemporary Worship Service
DESCRIPTION:Join us for our contemporary worship service in the Parish Hall! \n 
URL:https://centralunionchurch.org/event/11-worship/2027-04-04/
LOCATION:Parish Hall
CATEGORIES:Church Service,CUC
ATTACH;FMTTYPE=image/jpeg:https://centralunionchurch.org/wp-content/uploads/2023/07/11am-worship-CUC-Christ-beside-us-holding-hands-1-scaled.jpg
END:VEVENT
BEGIN:VEVENT
DTSTART;TZID=Pacific/Honolulu:20270411T110000
DTEND;TZID=Pacific/Honolulu:20270411T120000
DTSTAMP:20260421T234514
CREATED:20260313T015447Z
LAST-MODIFIED:20260313T022334Z
UID:25311-1807441200-1807444800@centralunionchurch.org
SUMMARY:11 AM Contemporary Worship Service
DESCRIPTION:Join us for our contemporary worship service in the Parish Hall! \n 
URL:https://centralunionchurch.org/event/11-worship/2027-04-11/
LOCATION:Parish Hall
CATEGORIES:Church Service,CUC
ATTACH;FMTTYPE=image/jpeg:https://centralunionchurch.org/wp-content/uploads/2023/07/11am-worship-CUC-Christ-beside-us-holding-hands-1-scaled.jpg
END:VEVENT
BEGIN:VEVENT
DTSTART;TZID=Pacific/Honolulu:20270418T110000
DTEND;TZID=Pacific/Honolulu:20270418T120000
DTSTAMP:20260421T234514
CREATED:20260313T015447Z
LAST-MODIFIED:20260313T022335Z
UID:25312-1808046000-1808049600@centralunionchurch.org
SUMMARY:11 AM Contemporary Worship Service
DESCRIPTION:Join us for our contemporary worship service in the Parish Hall! \n 
URL:https://centralunionchurch.org/event/11-worship/2027-04-18/
LOCATION:Parish Hall
CATEGORIES:Church Service,CUC
ATTACH;FMTTYPE=image/jpeg:https://centralunionchurch.org/wp-content/uploads/2023/07/11am-worship-CUC-Christ-beside-us-holding-hands-1-scaled.jpg
END:VEVENT
BEGIN:VEVENT
DTSTART;TZID=Pacific/Honolulu:20270425T110000
DTEND;TZID=Pacific/Honolulu:20270425T120000
DTSTAMP:20260421T234514
CREATED:20260313T015447Z
LAST-MODIFIED:20260313T022335Z
UID:25313-1808650800-1808654400@centralunionchurch.org
SUMMARY:11 AM Contemporary Worship Service
DESCRIPTION:Join us for our contemporary worship service in the Parish Hall! \n 
URL:https://centralunionchurch.org/event/11-worship/2027-04-25/
LOCATION:Parish Hall
CATEGORIES:Church Service,CUC
ATTACH;FMTTYPE=image/jpeg:https://centralunionchurch.org/wp-content/uploads/2023/07/11am-worship-CUC-Christ-beside-us-holding-hands-1-scaled.jpg
END:VEVENT
BEGIN:VEVENT
DTSTART;TZID=Pacific/Honolulu:20270502T110000
DTEND;TZID=Pacific/Honolulu:20270502T120000
DTSTAMP:20260421T234514
CREATED:20260313T015447Z
LAST-MODIFIED:20260313T022336Z
UID:25314-1809255600-1809259200@centralunionchurch.org
SUMMARY:11 AM Contemporary Worship Service
DESCRIPTION:Join us for our contemporary worship service in the Parish Hall! \n 
URL:https://centralunionchurch.org/event/11-worship/2027-05-02/
LOCATION:Parish Hall
CATEGORIES:Church Service,CUC
ATTACH;FMTTYPE=image/jpeg:https://centralunionchurch.org/wp-content/uploads/2023/07/11am-worship-CUC-Christ-beside-us-holding-hands-1-scaled.jpg
END:VEVENT
BEGIN:VEVENT
DTSTART;TZID=Pacific/Honolulu:20270509T110000
DTEND;TZID=Pacific/Honolulu:20270509T120000
DTSTAMP:20260421T234514
CREATED:20260313T015447Z
LAST-MODIFIED:20260313T022336Z
UID:25315-1809860400-1809864000@centralunionchurch.org
SUMMARY:11 AM Contemporary Worship Service
DESCRIPTION:Join us for our contemporary worship service in the Parish Hall! \n 
URL:https://centralunionchurch.org/event/11-worship/2027-05-09/
LOCATION:Parish Hall
CATEGORIES:Church Service,CUC
ATTACH;FMTTYPE=image/jpeg:https://centralunionchurch.org/wp-content/uploads/2023/07/11am-worship-CUC-Christ-beside-us-holding-hands-1-scaled.jpg
END:VEVENT
BEGIN:VEVENT
DTSTART;TZID=Pacific/Honolulu:20270516T110000
DTEND;TZID=Pacific/Honolulu:20270516T120000
DTSTAMP:20260421T234514
CREATED:20260313T015447Z
LAST-MODIFIED:20260313T022336Z
UID:25316-1810465200-1810468800@centralunionchurch.org
SUMMARY:11 AM Contemporary Worship Service
DESCRIPTION:Join us for our contemporary worship service in the Parish Hall! \n 
URL:https://centralunionchurch.org/event/11-worship/2027-05-16/
LOCATION:Parish Hall
CATEGORIES:Church Service,CUC
ATTACH;FMTTYPE=image/jpeg:https://centralunionchurch.org/wp-content/uploads/2023/07/11am-worship-CUC-Christ-beside-us-holding-hands-1-scaled.jpg
END:VEVENT
BEGIN:VEVENT
DTSTART;TZID=Pacific/Honolulu:20270523T110000
DTEND;TZID=Pacific/Honolulu:20270523T120000
DTSTAMP:20260421T234514
CREATED:20260313T015447Z
LAST-MODIFIED:20260313T022337Z
UID:25317-1811070000-1811073600@centralunionchurch.org
SUMMARY:11 AM Contemporary Worship Service
DESCRIPTION:Join us for our contemporary worship service in the Parish Hall! \n 
URL:https://centralunionchurch.org/event/11-worship/2027-05-23/
LOCATION:Parish Hall
CATEGORIES:Church Service,CUC
ATTACH;FMTTYPE=image/jpeg:https://centralunionchurch.org/wp-content/uploads/2023/07/11am-worship-CUC-Christ-beside-us-holding-hands-1-scaled.jpg
END:VEVENT
BEGIN:VEVENT
DTSTART;TZID=Pacific/Honolulu:20270530T110000
DTEND;TZID=Pacific/Honolulu:20270530T120000
DTSTAMP:20260421T234514
CREATED:20260313T015447Z
LAST-MODIFIED:20260313T022337Z
UID:25318-1811674800-1811678400@centralunionchurch.org
SUMMARY:11 AM Contemporary Worship Service
DESCRIPTION:Join us for our contemporary worship service in the Parish Hall! \n 
URL:https://centralunionchurch.org/event/11-worship/2027-05-30/
LOCATION:Parish Hall
CATEGORIES:Church Service,CUC
ATTACH;FMTTYPE=image/jpeg:https://centralunionchurch.org/wp-content/uploads/2023/07/11am-worship-CUC-Christ-beside-us-holding-hands-1-scaled.jpg
END:VEVENT
BEGIN:VEVENT
DTSTART;TZID=Pacific/Honolulu:20270606T110000
DTEND;TZID=Pacific/Honolulu:20270606T120000
DTSTAMP:20260421T234514
CREATED:20260313T015447Z
LAST-MODIFIED:20260313T022337Z
UID:25319-1812279600-1812283200@centralunionchurch.org
SUMMARY:11 AM Contemporary Worship Service
DESCRIPTION:Join us for our contemporary worship service in the Parish Hall! \n 
URL:https://centralunionchurch.org/event/11-worship/2027-06-06/
LOCATION:Parish Hall
CATEGORIES:Church Service,CUC
ATTACH;FMTTYPE=image/jpeg:https://centralunionchurch.org/wp-content/uploads/2023/07/11am-worship-CUC-Christ-beside-us-holding-hands-1-scaled.jpg
END:VEVENT
BEGIN:VEVENT
DTSTART;TZID=Pacific/Honolulu:20270613T110000
DTEND;TZID=Pacific/Honolulu:20270613T120000
DTSTAMP:20260421T234514
CREATED:20260313T015447Z
LAST-MODIFIED:20260313T022338Z
UID:25320-1812884400-1812888000@centralunionchurch.org
SUMMARY:11 AM Contemporary Worship Service
DESCRIPTION:Join us for our contemporary worship service in the Parish Hall! \n 
URL:https://centralunionchurch.org/event/11-worship/2027-06-13/
LOCATION:Parish Hall
CATEGORIES:Church Service,CUC
ATTACH;FMTTYPE=image/jpeg:https://centralunionchurch.org/wp-content/uploads/2023/07/11am-worship-CUC-Christ-beside-us-holding-hands-1-scaled.jpg
END:VEVENT
BEGIN:VEVENT
DTSTART;TZID=Pacific/Honolulu:20270620T110000
DTEND;TZID=Pacific/Honolulu:20270620T120000
DTSTAMP:20260421T234514
CREATED:20260313T015447Z
LAST-MODIFIED:20260313T022338Z
UID:25321-1813489200-1813492800@centralunionchurch.org
SUMMARY:11 AM Contemporary Worship Service
DESCRIPTION:Join us for our contemporary worship service in the Parish Hall! \n 
URL:https://centralunionchurch.org/event/11-worship/2027-06-20/
LOCATION:Parish Hall
CATEGORIES:Church Service,CUC
ATTACH;FMTTYPE=image/jpeg:https://centralunionchurch.org/wp-content/uploads/2023/07/11am-worship-CUC-Christ-beside-us-holding-hands-1-scaled.jpg
END:VEVENT
BEGIN:VEVENT
DTSTART;TZID=Pacific/Honolulu:20270627T110000
DTEND;TZID=Pacific/Honolulu:20270627T120000
DTSTAMP:20260421T234514
CREATED:20260313T015447Z
LAST-MODIFIED:20260313T022338Z
UID:25322-1814094000-1814097600@centralunionchurch.org
SUMMARY:11 AM Contemporary Worship Service
DESCRIPTION:Join us for our contemporary worship service in the Parish Hall! \n 
URL:https://centralunionchurch.org/event/11-worship/2027-06-27/
LOCATION:Parish Hall
CATEGORIES:Church Service,CUC
ATTACH;FMTTYPE=image/jpeg:https://centralunionchurch.org/wp-content/uploads/2023/07/11am-worship-CUC-Christ-beside-us-holding-hands-1-scaled.jpg
END:VEVENT
BEGIN:VEVENT
DTSTART;TZID=Pacific/Honolulu:20270704T110000
DTEND;TZID=Pacific/Honolulu:20270704T120000
DTSTAMP:20260421T234514
CREATED:20260313T015447Z
LAST-MODIFIED:20260313T022339Z
UID:25323-1814698800-1814702400@centralunionchurch.org
SUMMARY:11 AM Contemporary Worship Service
DESCRIPTION:Join us for our contemporary worship service in the Parish Hall! \n 
URL:https://centralunionchurch.org/event/11-worship/2027-07-04/
LOCATION:Parish Hall
CATEGORIES:Church Service,CUC
ATTACH;FMTTYPE=image/jpeg:https://centralunionchurch.org/wp-content/uploads/2023/07/11am-worship-CUC-Christ-beside-us-holding-hands-1-scaled.jpg
END:VEVENT
BEGIN:VEVENT
DTSTART;TZID=Pacific/Honolulu:20270711T110000
DTEND;TZID=Pacific/Honolulu:20270711T120000
DTSTAMP:20260421T234514
CREATED:20260313T015447Z
LAST-MODIFIED:20260313T022339Z
UID:25324-1815303600-1815307200@centralunionchurch.org
SUMMARY:11 AM Contemporary Worship Service
DESCRIPTION:Join us for our contemporary worship service in the Parish Hall! \n 
URL:https://centralunionchurch.org/event/11-worship/2027-07-11/
LOCATION:Parish Hall
CATEGORIES:Church Service,CUC
ATTACH;FMTTYPE=image/jpeg:https://centralunionchurch.org/wp-content/uploads/2023/07/11am-worship-CUC-Christ-beside-us-holding-hands-1-scaled.jpg
END:VEVENT
BEGIN:VEVENT
DTSTART;TZID=Pacific/Honolulu:20270718T110000
DTEND;TZID=Pacific/Honolulu:20270718T120000
DTSTAMP:20260421T234514
CREATED:20260313T015447Z
LAST-MODIFIED:20260313T022340Z
UID:25325-1815908400-1815912000@centralunionchurch.org
SUMMARY:11 AM Contemporary Worship Service
DESCRIPTION:Join us for our contemporary worship service in the Parish Hall! \n 
URL:https://centralunionchurch.org/event/11-worship/2027-07-18/
LOCATION:Parish Hall
CATEGORIES:Church Service,CUC
ATTACH;FMTTYPE=image/jpeg:https://centralunionchurch.org/wp-content/uploads/2023/07/11am-worship-CUC-Christ-beside-us-holding-hands-1-scaled.jpg
END:VEVENT
BEGIN:VEVENT
DTSTART;TZID=Pacific/Honolulu:20270725T110000
DTEND;TZID=Pacific/Honolulu:20270725T120000
DTSTAMP:20260421T234514
CREATED:20260313T015447Z
LAST-MODIFIED:20260313T022340Z
UID:25326-1816513200-1816516800@centralunionchurch.org
SUMMARY:11 AM Contemporary Worship Service
DESCRIPTION:Join us for our contemporary worship service in the Parish Hall! \n 
URL:https://centralunionchurch.org/event/11-worship/2027-07-25/
LOCATION:Parish Hall
CATEGORIES:Church Service,CUC
ATTACH;FMTTYPE=image/jpeg:https://centralunionchurch.org/wp-content/uploads/2023/07/11am-worship-CUC-Christ-beside-us-holding-hands-1-scaled.jpg
END:VEVENT
BEGIN:VEVENT
DTSTART;TZID=Pacific/Honolulu:20270801T110000
DTEND;TZID=Pacific/Honolulu:20270801T120000
DTSTAMP:20260421T234514
CREATED:20260313T015447Z
LAST-MODIFIED:20260313T022340Z
UID:25327-1817118000-1817121600@centralunionchurch.org
SUMMARY:11 AM Contemporary Worship Service
DESCRIPTION:Join us for our contemporary worship service in the Parish Hall! \n 
URL:https://centralunionchurch.org/event/11-worship/2027-08-01/
LOCATION:Parish Hall
CATEGORIES:Church Service,CUC
ATTACH;FMTTYPE=image/jpeg:https://centralunionchurch.org/wp-content/uploads/2023/07/11am-worship-CUC-Christ-beside-us-holding-hands-1-scaled.jpg
END:VEVENT
BEGIN:VEVENT
DTSTART;TZID=Pacific/Honolulu:20270808T110000
DTEND;TZID=Pacific/Honolulu:20270808T120000
DTSTAMP:20260421T234514
CREATED:20260313T015447Z
LAST-MODIFIED:20260313T022341Z
UID:25328-1817722800-1817726400@centralunionchurch.org
SUMMARY:11 AM Contemporary Worship Service
DESCRIPTION:Join us for our contemporary worship service in the Parish Hall! \n 
URL:https://centralunionchurch.org/event/11-worship/2027-08-08/
LOCATION:Parish Hall
CATEGORIES:Church Service,CUC
ATTACH;FMTTYPE=image/jpeg:https://centralunionchurch.org/wp-content/uploads/2023/07/11am-worship-CUC-Christ-beside-us-holding-hands-1-scaled.jpg
END:VEVENT
BEGIN:VEVENT
DTSTART;TZID=Pacific/Honolulu:20270815T110000
DTEND;TZID=Pacific/Honolulu:20270815T120000
DTSTAMP:20260421T234514
CREATED:20260313T015447Z
LAST-MODIFIED:20260313T022341Z
UID:25329-1818327600-1818331200@centralunionchurch.org
SUMMARY:11 AM Contemporary Worship Service
DESCRIPTION:Join us for our contemporary worship service in the Parish Hall! \n 
URL:https://centralunionchurch.org/event/11-worship/2027-08-15/
LOCATION:Parish Hall
CATEGORIES:Church Service,CUC
ATTACH;FMTTYPE=image/jpeg:https://centralunionchurch.org/wp-content/uploads/2023/07/11am-worship-CUC-Christ-beside-us-holding-hands-1-scaled.jpg
END:VEVENT
BEGIN:VEVENT
DTSTART;TZID=Pacific/Honolulu:20270822T110000
DTEND;TZID=Pacific/Honolulu:20270822T120000
DTSTAMP:20260421T234514
CREATED:20260313T015447Z
LAST-MODIFIED:20260313T022341Z
UID:25330-1818932400-1818936000@centralunionchurch.org
SUMMARY:11 AM Contemporary Worship Service
DESCRIPTION:Join us for our contemporary worship service in the Parish Hall! \n 
URL:https://centralunionchurch.org/event/11-worship/2027-08-22/
LOCATION:Parish Hall
CATEGORIES:Church Service,CUC
ATTACH;FMTTYPE=image/jpeg:https://centralunionchurch.org/wp-content/uploads/2023/07/11am-worship-CUC-Christ-beside-us-holding-hands-1-scaled.jpg
END:VEVENT
END:VCALENDAR