BEGIN:VCALENDAR
VERSION:2.0
PRODID:-//Central Union Church - ECPv6.15.20//NONSGML v1.0//EN
CALSCALE:GREGORIAN
METHOD:PUBLISH
X-WR-CALNAME:Central Union Church
X-ORIGINAL-URL:https://centralunionchurch.org
X-WR-CALDESC:Events for Central Union Church
REFRESH-INTERVAL;VALUE=DURATION:PT1H
X-Robots-Tag:noindex
X-PUBLISHED-TTL:PT1H
BEGIN:VTIMEZONE
TZID:Pacific/Honolulu
BEGIN:STANDARD
TZOFFSETFROM:-1000
TZOFFSETTO:-1000
TZNAME:HST
DTSTART:20250101T000000
END:STANDARD
END:VTIMEZONE
BEGIN:VEVENT
DTSTART;TZID=Pacific/Honolulu:20260329T100000
DTEND;TZID=Pacific/Honolulu:20260329T120000
DTSTAMP:20260420T044455
CREATED:20260219T014150Z
LAST-MODIFIED:20260327T232725Z
UID:25059-1774778400-1774785600@centralunionchurch.org
SUMMARY:Palm Sunday Worship & Potluck Party
DESCRIPTION:Let’s enter into Holy Week by spending time together as a community on Palm Sunday! \nFollowing one joint worship service at 10 AM (9:45 AM Gift of Music by a guest choir)\, please join us after worship (around 11 AM) in the Women’s Building for a church-wide Potluck Party. \nYou are welcome to drop off your potluck dish in the Women’s Building between 9:30–9:45\, or bring it with you after. \nWe hope you will join the fun and fellowship (even if you are unable to bring food)! \n 
URL:https://centralunionchurch.org/event/palm-sunday-worship-potluck/
LOCATION:Sanctuary
CATEGORIES:CUC,Lent
ATTACH;FMTTYPE=image/jpeg:https://centralunionchurch.org/wp-content/uploads/2026/02/Palm-Sunday-2026.jpg
END:VEVENT
END:VCALENDAR