BEGIN:VCALENDAR
VERSION:2.0
PRODID:-//Central Union Church - ECPv6.15.20//NONSGML v1.0//EN
CALSCALE:GREGORIAN
METHOD:PUBLISH
X-WR-CALNAME:Central Union Church
X-ORIGINAL-URL:https://centralunionchurch.org
X-WR-CALDESC:Events for Central Union Church
REFRESH-INTERVAL;VALUE=DURATION:PT1H
X-Robots-Tag:noindex
X-PUBLISHED-TTL:PT1H
BEGIN:VTIMEZONE
TZID:Pacific/Honolulu
BEGIN:STANDARD
TZOFFSETFROM:-1000
TZOFFSETTO:-1000
TZNAME:HST
DTSTART:20250101T000000
END:STANDARD
END:VTIMEZONE
BEGIN:VEVENT
DTSTART;TZID=Pacific/Honolulu:20260422T170000
DTEND;TZID=Pacific/Honolulu:20260422T190000
DTSTAMP:20260422T025641
CREATED:20260409T035923Z
LAST-MODIFIED:20260409T040058Z
UID:25605-1776877200-1776884400@centralunionchurch.org
SUMMARY:Messy Church "Green & Growing"
DESCRIPTION:Looking for a fun and engaging way to explore faith? Come to Messy Church! It’s a fantastic opportunity for keiki to kūpuna to come together\, get creative\, and learn about God in a relaxed and informal setting. Messy Church is a unique way to experience church through creativity\, hospitality\, and celebration. \n\n\n\n\nEnjoy a variety of hands-on crafts and activities that bring Bible stories to life. Participate in a lively and interactive worship experience suitable for all ages. Share a meal with us and enjoy some tasty treats while connecting with other families. All are welcome! \n\n\n\n\nApril’s Messy Church gathering will be on Earth Day and our theme is Green & Growing! Dinner will be served so please help us by RSVPing! \nRSVP HERE
URL:https://centralunionchurch.org/event/messy-church-2026-04-22/
LOCATION:Parish Hall
CATEGORIES:Children's Ministry,CUC,Faith Formation,Youth
ATTACH;FMTTYPE=image/png:https://centralunionchurch.org/wp-content/uploads/2026/04/Messy-Church-Earth-Day-4.22.26.png
END:VEVENT
BEGIN:VEVENT
DTSTART;TZID=Pacific/Honolulu:20260426T110000
DTEND;TZID=Pacific/Honolulu:20260426T120000
DTSTAMP:20260422T025641
CREATED:20260313T015447Z
LAST-MODIFIED:20260415T224535Z
UID:25260-1777201200-1777204800@centralunionchurch.org
SUMMARY:11 AM Contemporary Worship Service
DESCRIPTION:Join us for our contemporary worship service in the Parish Hall! \nSermon series: The Gospel According to Broadway \nChildren of Eden: Creation\, Freedom\, and Forgiveness\nThis spring we invite you to experience the good news in a fresh way through  The Gospel According to Broadway:  The Musicals of Stephen Schwartz. Drawing on beloved Broadway shows\, this series explores how faith\, grace\, justice\, and purpose are revealed through modern storytelling and song. \nRooted in the United Church of Christ’s belief that God is Still Speaking\, this series echoes Pastor John Robinson’s reminder to the Pilgrims that “the Lord hath more truth and light yet to break forth from his holy Word.” We listen for God’s voice not only in Scripture\, but also in the culture and stories that surround us today. \nJoin us as we discover how God continues to speak—on the stage\, in community\, and in our lives. \n 
URL:https://centralunionchurch.org/event/11-worship-2026-04-26/
LOCATION:Parish Hall
CATEGORIES:Church Service,CUC
ATTACH;FMTTYPE=image/png:https://centralunionchurch.org/wp-content/uploads/2025/01/4.26-Children-of-Eden-GATB.png
END:VEVENT
BEGIN:VEVENT
DTSTART;TZID=Pacific/Honolulu:20260503T110000
DTEND;TZID=Pacific/Honolulu:20260503T120000
DTSTAMP:20260422T025641
CREATED:20260313T015447Z
LAST-MODIFIED:20260415T225138Z
UID:25261-1777806000-1777809600@centralunionchurch.org
SUMMARY:11 AM Contemporary Worship Service
DESCRIPTION:Join us for our contemporary worship service in the Parish Hall! \nSermon series: The Gospel According to Broadway \nWicked: Grace\, Friendship\, and the Cost of Discipleship\nThis spring we invite you to experience the good news in a fresh way through  The Gospel According to Broadway:  The Musicals of Stephen Schwartz. Drawing on beloved Broadway shows\, this series explores how faith\, grace\, justice\, and purpose are revealed through modern storytelling and song. \nRooted in the United Church of Christ’s belief that God is Still Speaking\, this series echoes Pastor John Robinson’s reminder to the Pilgrims that “the Lord hath more truth and light yet to break forth from his holy Word.” We listen for God’s voice not only in Scripture\, but also in the culture and stories that surround us today. \nJoin us as we discover how God continues to speak—on the stage\, in community\, and in our lives.
URL:https://centralunionchurch.org/event/11-worship-2026-05-03/
LOCATION:Parish Hall
CATEGORIES:Church Service,CUC
ATTACH;FMTTYPE=image/png:https://centralunionchurch.org/wp-content/uploads/2025/01/5.3-Wicked-GATB.png
END:VEVENT
BEGIN:VEVENT
DTSTART;TZID=Pacific/Honolulu:20260510T110000
DTEND;TZID=Pacific/Honolulu:20260510T120000
DTSTAMP:20260422T025641
CREATED:20260313T015447Z
LAST-MODIFIED:20260415T225844Z
UID:25262-1778410800-1778414400@centralunionchurch.org
SUMMARY:11 AM Contemporary Worship Service
DESCRIPTION:Join us for our contemporary worship service in the Parish Hall! \nSermon series: The Gospel According to Broadway \nThe Prince of Egypt: Deliverance and Divine Calling\nThis spring we invite you to experience the good news in a fresh way through  The Gospel According to Broadway:  The Musicals of Stephen Schwartz. Drawing on beloved Broadway shows\, this series explores how faith\, grace\, justice\, and purpose are revealed through modern storytelling and song. \nRooted in the United Church of Christ’s belief that God is Still Speaking\, this series echoes Pastor John Robinson’s reminder to the Pilgrims that “the Lord hath more truth and light yet to break forth from his holy Word.” We listen for God’s voice not only in Scripture\, but also in the culture and stories that surround us today. \nJoin us as we discover how God continues to speak—on the stage\, in community\, and in our lives.
URL:https://centralunionchurch.org/event/11-worship-2026-05-10/
LOCATION:Parish Hall
CATEGORIES:Church Service,CUC
ATTACH;FMTTYPE=image/png:https://centralunionchurch.org/wp-content/uploads/2025/01/5.10-Prince-of-Egypt-GATB.png
END:VEVENT
BEGIN:VEVENT
DTSTART;TZID=Pacific/Honolulu:20260517T110000
DTEND;TZID=Pacific/Honolulu:20260517T120000
DTSTAMP:20260422T025641
CREATED:20260313T015447Z
LAST-MODIFIED:20260415T230324Z
UID:25263-1779015600-1779019200@centralunionchurch.org
SUMMARY:11 AM Contemporary Worship Service
DESCRIPTION:Join us for our contemporary worship service in the Parish Hall! \nSermon series: The Gospel According to Broadway \nPippin: The Search for Meaning\nThis spring we invite you to experience the good news in a fresh way through  The Gospel According to Broadway:  The Musicals of Stephen Schwartz. Drawing on beloved Broadway shows\, this series explores how faith\, grace\, justice\, and purpose are revealed through modern storytelling and song. \nRooted in the United Church of Christ’s belief that God is Still Speaking\, this series echoes Pastor John Robinson’s reminder to the Pilgrims that “the Lord hath more truth and light yet to break forth from his holy Word.” We listen for God’s voice not only in Scripture\, but also in the culture and stories that surround us today. \nJoin us as we discover how God continues to speak—on the stage\, in community\, and in our lives. \n 
URL:https://centralunionchurch.org/event/11-worship-2026-05-17/
LOCATION:Parish Hall
CATEGORIES:Church Service,CUC
ATTACH;FMTTYPE=image/png:https://centralunionchurch.org/wp-content/uploads/2025/01/5.17-Pippin-GATB-black.png
END:VEVENT
BEGIN:VEVENT
DTSTART;TZID=Pacific/Honolulu:20260524T110000
DTEND;TZID=Pacific/Honolulu:20260524T120000
DTSTAMP:20260422T025641
CREATED:20260313T015447Z
LAST-MODIFIED:20260313T015654Z
UID:25264-1779620400-1779624000@centralunionchurch.org
SUMMARY:11 AM Contemporary Worship Service
DESCRIPTION:Join us for our contemporary worship service in the Parish Hall! \n 
URL:https://centralunionchurch.org/event/11-worship/2026-05-24/
LOCATION:Parish Hall
CATEGORIES:Church Service,CUC
ATTACH;FMTTYPE=image/jpeg:https://centralunionchurch.org/wp-content/uploads/2023/07/11am-worship-CUC-Christ-beside-us-holding-hands-1-scaled.jpg
END:VEVENT
BEGIN:VEVENT
DTSTART;TZID=Pacific/Honolulu:20260531T110000
DTEND;TZID=Pacific/Honolulu:20260531T120000
DTSTAMP:20260422T025641
CREATED:20260313T015447Z
LAST-MODIFIED:20260313T022316Z
UID:25266-1780225200-1780228800@centralunionchurch.org
SUMMARY:11 AM Contemporary Worship Service
DESCRIPTION:Join us for our contemporary worship service in the Parish Hall! \n 
URL:https://centralunionchurch.org/event/11-worship/2026-05-31/
LOCATION:Parish Hall
CATEGORIES:Church Service,CUC
ATTACH;FMTTYPE=image/jpeg:https://centralunionchurch.org/wp-content/uploads/2023/07/11am-worship-CUC-Christ-beside-us-holding-hands-1-scaled.jpg
END:VEVENT
BEGIN:VEVENT
DTSTART;TZID=Pacific/Honolulu:20260607T110000
DTEND;TZID=Pacific/Honolulu:20260607T120000
DTSTAMP:20260422T025641
CREATED:20260313T015447Z
LAST-MODIFIED:20260313T022317Z
UID:25267-1780830000-1780833600@centralunionchurch.org
SUMMARY:11 AM Contemporary Worship Service
DESCRIPTION:Join us for our contemporary worship service in the Parish Hall! \n 
URL:https://centralunionchurch.org/event/11-worship/2026-06-07/
LOCATION:Parish Hall
CATEGORIES:Church Service,CUC
ATTACH;FMTTYPE=image/jpeg:https://centralunionchurch.org/wp-content/uploads/2023/07/11am-worship-CUC-Christ-beside-us-holding-hands-1-scaled.jpg
END:VEVENT
BEGIN:VEVENT
DTSTART;TZID=Pacific/Honolulu:20260614T110000
DTEND;TZID=Pacific/Honolulu:20260614T120000
DTSTAMP:20260422T025641
CREATED:20260313T015447Z
LAST-MODIFIED:20260313T022317Z
UID:25268-1781434800-1781438400@centralunionchurch.org
SUMMARY:11 AM Contemporary Worship Service
DESCRIPTION:Join us for our contemporary worship service in the Parish Hall! \n 
URL:https://centralunionchurch.org/event/11-worship/2026-06-14/
LOCATION:Parish Hall
CATEGORIES:Church Service,CUC
ATTACH;FMTTYPE=image/jpeg:https://centralunionchurch.org/wp-content/uploads/2023/07/11am-worship-CUC-Christ-beside-us-holding-hands-1-scaled.jpg
END:VEVENT
BEGIN:VEVENT
DTSTART;TZID=Pacific/Honolulu:20260621T110000
DTEND;TZID=Pacific/Honolulu:20260621T120000
DTSTAMP:20260422T025641
CREATED:20260313T015447Z
LAST-MODIFIED:20260313T022317Z
UID:25269-1782039600-1782043200@centralunionchurch.org
SUMMARY:11 AM Contemporary Worship Service
DESCRIPTION:Join us for our contemporary worship service in the Parish Hall! \n 
URL:https://centralunionchurch.org/event/11-worship/2026-06-21/
LOCATION:Parish Hall
CATEGORIES:Church Service,CUC
ATTACH;FMTTYPE=image/jpeg:https://centralunionchurch.org/wp-content/uploads/2023/07/11am-worship-CUC-Christ-beside-us-holding-hands-1-scaled.jpg
END:VEVENT
BEGIN:VEVENT
DTSTART;TZID=Pacific/Honolulu:20260628T110000
DTEND;TZID=Pacific/Honolulu:20260628T120000
DTSTAMP:20260422T025641
CREATED:20260313T015447Z
LAST-MODIFIED:20260313T022318Z
UID:25270-1782644400-1782648000@centralunionchurch.org
SUMMARY:11 AM Contemporary Worship Service
DESCRIPTION:Join us for our contemporary worship service in the Parish Hall! \n 
URL:https://centralunionchurch.org/event/11-worship/2026-06-28/
LOCATION:Parish Hall
CATEGORIES:Church Service,CUC
ATTACH;FMTTYPE=image/jpeg:https://centralunionchurch.org/wp-content/uploads/2023/07/11am-worship-CUC-Christ-beside-us-holding-hands-1-scaled.jpg
END:VEVENT
BEGIN:VEVENT
DTSTART;TZID=Pacific/Honolulu:20260705T110000
DTEND;TZID=Pacific/Honolulu:20260705T120000
DTSTAMP:20260422T025641
CREATED:20260313T015447Z
LAST-MODIFIED:20260313T022318Z
UID:25271-1783249200-1783252800@centralunionchurch.org
SUMMARY:11 AM Contemporary Worship Service
DESCRIPTION:Join us for our contemporary worship service in the Parish Hall! \n 
URL:https://centralunionchurch.org/event/11-worship/2026-07-05/
LOCATION:Parish Hall
CATEGORIES:Church Service,CUC
ATTACH;FMTTYPE=image/jpeg:https://centralunionchurch.org/wp-content/uploads/2023/07/11am-worship-CUC-Christ-beside-us-holding-hands-1-scaled.jpg
END:VEVENT
BEGIN:VEVENT
DTSTART;TZID=Pacific/Honolulu:20260712T110000
DTEND;TZID=Pacific/Honolulu:20260712T120000
DTSTAMP:20260422T025641
CREATED:20260313T015447Z
LAST-MODIFIED:20260313T022319Z
UID:25272-1783854000-1783857600@centralunionchurch.org
SUMMARY:11 AM Contemporary Worship Service
DESCRIPTION:Join us for our contemporary worship service in the Parish Hall! \n 
URL:https://centralunionchurch.org/event/11-worship/2026-07-12/
LOCATION:Parish Hall
CATEGORIES:Church Service,CUC
ATTACH;FMTTYPE=image/jpeg:https://centralunionchurch.org/wp-content/uploads/2023/07/11am-worship-CUC-Christ-beside-us-holding-hands-1-scaled.jpg
END:VEVENT
BEGIN:VEVENT
DTSTART;TZID=Pacific/Honolulu:20260719T110000
DTEND;TZID=Pacific/Honolulu:20260719T120000
DTSTAMP:20260422T025641
CREATED:20260313T015447Z
LAST-MODIFIED:20260313T022319Z
UID:25273-1784458800-1784462400@centralunionchurch.org
SUMMARY:11 AM Contemporary Worship Service
DESCRIPTION:Join us for our contemporary worship service in the Parish Hall! \n 
URL:https://centralunionchurch.org/event/11-worship/2026-07-19/
LOCATION:Parish Hall
CATEGORIES:Church Service,CUC
ATTACH;FMTTYPE=image/jpeg:https://centralunionchurch.org/wp-content/uploads/2023/07/11am-worship-CUC-Christ-beside-us-holding-hands-1-scaled.jpg
END:VEVENT
BEGIN:VEVENT
DTSTART;TZID=Pacific/Honolulu:20260726T110000
DTEND;TZID=Pacific/Honolulu:20260726T120000
DTSTAMP:20260422T025641
CREATED:20260313T015447Z
LAST-MODIFIED:20260313T022319Z
UID:25274-1785063600-1785067200@centralunionchurch.org
SUMMARY:11 AM Contemporary Worship Service
DESCRIPTION:Join us for our contemporary worship service in the Parish Hall! \n 
URL:https://centralunionchurch.org/event/11-worship/2026-07-26/
LOCATION:Parish Hall
CATEGORIES:Church Service,CUC
ATTACH;FMTTYPE=image/jpeg:https://centralunionchurch.org/wp-content/uploads/2023/07/11am-worship-CUC-Christ-beside-us-holding-hands-1-scaled.jpg
END:VEVENT
BEGIN:VEVENT
DTSTART;TZID=Pacific/Honolulu:20260802T110000
DTEND;TZID=Pacific/Honolulu:20260802T120000
DTSTAMP:20260422T025641
CREATED:20260313T015447Z
LAST-MODIFIED:20260313T022320Z
UID:25275-1785668400-1785672000@centralunionchurch.org
SUMMARY:11 AM Contemporary Worship Service
DESCRIPTION:Join us for our contemporary worship service in the Parish Hall! \n 
URL:https://centralunionchurch.org/event/11-worship/2026-08-02/
LOCATION:Parish Hall
CATEGORIES:Church Service,CUC
ATTACH;FMTTYPE=image/jpeg:https://centralunionchurch.org/wp-content/uploads/2023/07/11am-worship-CUC-Christ-beside-us-holding-hands-1-scaled.jpg
END:VEVENT
BEGIN:VEVENT
DTSTART;TZID=Pacific/Honolulu:20260809T110000
DTEND;TZID=Pacific/Honolulu:20260809T120000
DTSTAMP:20260422T025641
CREATED:20260313T015447Z
LAST-MODIFIED:20260313T022320Z
UID:25276-1786273200-1786276800@centralunionchurch.org
SUMMARY:11 AM Contemporary Worship Service
DESCRIPTION:Join us for our contemporary worship service in the Parish Hall! \n 
URL:https://centralunionchurch.org/event/11-worship/2026-08-09/
LOCATION:Parish Hall
CATEGORIES:Church Service,CUC
ATTACH;FMTTYPE=image/jpeg:https://centralunionchurch.org/wp-content/uploads/2023/07/11am-worship-CUC-Christ-beside-us-holding-hands-1-scaled.jpg
END:VEVENT
BEGIN:VEVENT
DTSTART;TZID=Pacific/Honolulu:20260816T110000
DTEND;TZID=Pacific/Honolulu:20260816T120000
DTSTAMP:20260422T025641
CREATED:20260313T015447Z
LAST-MODIFIED:20260313T022320Z
UID:25277-1786878000-1786881600@centralunionchurch.org
SUMMARY:11 AM Contemporary Worship Service
DESCRIPTION:Join us for our contemporary worship service in the Parish Hall! \n 
URL:https://centralunionchurch.org/event/11-worship/2026-08-16/
LOCATION:Parish Hall
CATEGORIES:Church Service,CUC
ATTACH;FMTTYPE=image/jpeg:https://centralunionchurch.org/wp-content/uploads/2023/07/11am-worship-CUC-Christ-beside-us-holding-hands-1-scaled.jpg
END:VEVENT
BEGIN:VEVENT
DTSTART;TZID=Pacific/Honolulu:20260823T110000
DTEND;TZID=Pacific/Honolulu:20260823T120000
DTSTAMP:20260422T025641
CREATED:20260313T015447Z
LAST-MODIFIED:20260313T022321Z
UID:25278-1787482800-1787486400@centralunionchurch.org
SUMMARY:11 AM Contemporary Worship Service
DESCRIPTION:Join us for our contemporary worship service in the Parish Hall! \n 
URL:https://centralunionchurch.org/event/11-worship/2026-08-23/
LOCATION:Parish Hall
CATEGORIES:Church Service,CUC
ATTACH;FMTTYPE=image/jpeg:https://centralunionchurch.org/wp-content/uploads/2023/07/11am-worship-CUC-Christ-beside-us-holding-hands-1-scaled.jpg
END:VEVENT
BEGIN:VEVENT
DTSTART;TZID=Pacific/Honolulu:20260830T110000
DTEND;TZID=Pacific/Honolulu:20260830T120000
DTSTAMP:20260422T025641
CREATED:20260313T015447Z
LAST-MODIFIED:20260313T022321Z
UID:25279-1788087600-1788091200@centralunionchurch.org
SUMMARY:11 AM Contemporary Worship Service
DESCRIPTION:Join us for our contemporary worship service in the Parish Hall! \n 
URL:https://centralunionchurch.org/event/11-worship/2026-08-30/
LOCATION:Parish Hall
CATEGORIES:Church Service,CUC
ATTACH;FMTTYPE=image/jpeg:https://centralunionchurch.org/wp-content/uploads/2023/07/11am-worship-CUC-Christ-beside-us-holding-hands-1-scaled.jpg
END:VEVENT
BEGIN:VEVENT
DTSTART;TZID=Pacific/Honolulu:20260906T110000
DTEND;TZID=Pacific/Honolulu:20260906T120000
DTSTAMP:20260422T025641
CREATED:20260313T015447Z
LAST-MODIFIED:20260313T022322Z
UID:25280-1788692400-1788696000@centralunionchurch.org
SUMMARY:11 AM Contemporary Worship Service
DESCRIPTION:Join us for our contemporary worship service in the Parish Hall! \n 
URL:https://centralunionchurch.org/event/11-worship/2026-09-06/
LOCATION:Parish Hall
CATEGORIES:Church Service,CUC
ATTACH;FMTTYPE=image/jpeg:https://centralunionchurch.org/wp-content/uploads/2023/07/11am-worship-CUC-Christ-beside-us-holding-hands-1-scaled.jpg
END:VEVENT
BEGIN:VEVENT
DTSTART;TZID=Pacific/Honolulu:20260913T110000
DTEND;TZID=Pacific/Honolulu:20260913T120000
DTSTAMP:20260422T025641
CREATED:20260313T015447Z
LAST-MODIFIED:20260313T022322Z
UID:25281-1789297200-1789300800@centralunionchurch.org
SUMMARY:11 AM Contemporary Worship Service
DESCRIPTION:Join us for our contemporary worship service in the Parish Hall! \n 
URL:https://centralunionchurch.org/event/11-worship/2026-09-13/
LOCATION:Parish Hall
CATEGORIES:Church Service,CUC
ATTACH;FMTTYPE=image/jpeg:https://centralunionchurch.org/wp-content/uploads/2023/07/11am-worship-CUC-Christ-beside-us-holding-hands-1-scaled.jpg
END:VEVENT
BEGIN:VEVENT
DTSTART;TZID=Pacific/Honolulu:20260920T110000
DTEND;TZID=Pacific/Honolulu:20260920T120000
DTSTAMP:20260422T025641
CREATED:20260313T015447Z
LAST-MODIFIED:20260313T022322Z
UID:25282-1789902000-1789905600@centralunionchurch.org
SUMMARY:11 AM Contemporary Worship Service
DESCRIPTION:Join us for our contemporary worship service in the Parish Hall! \n 
URL:https://centralunionchurch.org/event/11-worship/2026-09-20/
LOCATION:Parish Hall
CATEGORIES:Church Service,CUC
ATTACH;FMTTYPE=image/jpeg:https://centralunionchurch.org/wp-content/uploads/2023/07/11am-worship-CUC-Christ-beside-us-holding-hands-1-scaled.jpg
END:VEVENT
BEGIN:VEVENT
DTSTART;TZID=Pacific/Honolulu:20260927T110000
DTEND;TZID=Pacific/Honolulu:20260927T120000
DTSTAMP:20260422T025641
CREATED:20260313T015447Z
LAST-MODIFIED:20260313T022323Z
UID:25283-1790506800-1790510400@centralunionchurch.org
SUMMARY:11 AM Contemporary Worship Service
DESCRIPTION:Join us for our contemporary worship service in the Parish Hall! \n 
URL:https://centralunionchurch.org/event/11-worship/2026-09-27/
LOCATION:Parish Hall
CATEGORIES:Church Service,CUC
ATTACH;FMTTYPE=image/jpeg:https://centralunionchurch.org/wp-content/uploads/2023/07/11am-worship-CUC-Christ-beside-us-holding-hands-1-scaled.jpg
END:VEVENT
BEGIN:VEVENT
DTSTART;TZID=Pacific/Honolulu:20261004T110000
DTEND;TZID=Pacific/Honolulu:20261004T120000
DTSTAMP:20260422T025641
CREATED:20260313T015447Z
LAST-MODIFIED:20260313T022323Z
UID:25284-1791111600-1791115200@centralunionchurch.org
SUMMARY:11 AM Contemporary Worship Service
DESCRIPTION:Join us for our contemporary worship service in the Parish Hall! \n 
URL:https://centralunionchurch.org/event/11-worship/2026-10-04/
LOCATION:Parish Hall
CATEGORIES:Church Service,CUC
ATTACH;FMTTYPE=image/jpeg:https://centralunionchurch.org/wp-content/uploads/2023/07/11am-worship-CUC-Christ-beside-us-holding-hands-1-scaled.jpg
END:VEVENT
BEGIN:VEVENT
DTSTART;TZID=Pacific/Honolulu:20261011T110000
DTEND;TZID=Pacific/Honolulu:20261011T120000
DTSTAMP:20260422T025641
CREATED:20260313T015447Z
LAST-MODIFIED:20260313T022324Z
UID:25285-1791716400-1791720000@centralunionchurch.org
SUMMARY:11 AM Contemporary Worship Service
DESCRIPTION:Join us for our contemporary worship service in the Parish Hall! \n 
URL:https://centralunionchurch.org/event/11-worship/2026-10-11/
LOCATION:Parish Hall
CATEGORIES:Church Service,CUC
ATTACH;FMTTYPE=image/jpeg:https://centralunionchurch.org/wp-content/uploads/2023/07/11am-worship-CUC-Christ-beside-us-holding-hands-1-scaled.jpg
END:VEVENT
BEGIN:VEVENT
DTSTART;TZID=Pacific/Honolulu:20261018T110000
DTEND;TZID=Pacific/Honolulu:20261018T120000
DTSTAMP:20260422T025641
CREATED:20260313T015447Z
LAST-MODIFIED:20260313T022324Z
UID:25286-1792321200-1792324800@centralunionchurch.org
SUMMARY:11 AM Contemporary Worship Service
DESCRIPTION:Join us for our contemporary worship service in the Parish Hall! \n 
URL:https://centralunionchurch.org/event/11-worship/2026-10-18/
LOCATION:Parish Hall
CATEGORIES:Church Service,CUC
ATTACH;FMTTYPE=image/jpeg:https://centralunionchurch.org/wp-content/uploads/2023/07/11am-worship-CUC-Christ-beside-us-holding-hands-1-scaled.jpg
END:VEVENT
BEGIN:VEVENT
DTSTART;TZID=Pacific/Honolulu:20261025T110000
DTEND;TZID=Pacific/Honolulu:20261025T120000
DTSTAMP:20260422T025641
CREATED:20260313T015447Z
LAST-MODIFIED:20260313T022324Z
UID:25287-1792926000-1792929600@centralunionchurch.org
SUMMARY:11 AM Contemporary Worship Service
DESCRIPTION:Join us for our contemporary worship service in the Parish Hall! \n 
URL:https://centralunionchurch.org/event/11-worship/2026-10-25/
LOCATION:Parish Hall
CATEGORIES:Church Service,CUC
ATTACH;FMTTYPE=image/jpeg:https://centralunionchurch.org/wp-content/uploads/2023/07/11am-worship-CUC-Christ-beside-us-holding-hands-1-scaled.jpg
END:VEVENT
BEGIN:VEVENT
DTSTART;TZID=Pacific/Honolulu:20261101T110000
DTEND;TZID=Pacific/Honolulu:20261101T120000
DTSTAMP:20260422T025641
CREATED:20260313T015447Z
LAST-MODIFIED:20260313T022325Z
UID:25288-1793530800-1793534400@centralunionchurch.org
SUMMARY:11 AM Contemporary Worship Service
DESCRIPTION:Join us for our contemporary worship service in the Parish Hall! \n 
URL:https://centralunionchurch.org/event/11-worship/2026-11-01/
LOCATION:Parish Hall
CATEGORIES:Church Service,CUC
ATTACH;FMTTYPE=image/jpeg:https://centralunionchurch.org/wp-content/uploads/2023/07/11am-worship-CUC-Christ-beside-us-holding-hands-1-scaled.jpg
END:VEVENT
BEGIN:VEVENT
DTSTART;TZID=Pacific/Honolulu:20261108T110000
DTEND;TZID=Pacific/Honolulu:20261108T120000
DTSTAMP:20260422T025641
CREATED:20260313T015447Z
LAST-MODIFIED:20260313T022325Z
UID:25289-1794135600-1794139200@centralunionchurch.org
SUMMARY:11 AM Contemporary Worship Service
DESCRIPTION:Join us for our contemporary worship service in the Parish Hall! \n 
URL:https://centralunionchurch.org/event/11-worship/2026-11-08/
LOCATION:Parish Hall
CATEGORIES:Church Service,CUC
ATTACH;FMTTYPE=image/jpeg:https://centralunionchurch.org/wp-content/uploads/2023/07/11am-worship-CUC-Christ-beside-us-holding-hands-1-scaled.jpg
END:VEVENT
END:VCALENDAR