BEGIN:VCALENDAR
VERSION:2.0
PRODID:-//Central Union Church - ECPv6.15.20//NONSGML v1.0//EN
CALSCALE:GREGORIAN
METHOD:PUBLISH
X-ORIGINAL-URL:https://centralunionchurch.org
X-WR-CALDESC:Events for Central Union Church
REFRESH-INTERVAL;VALUE=DURATION:PT1H
X-Robots-Tag:noindex
X-PUBLISHED-TTL:PT1H
BEGIN:VTIMEZONE
TZID:Pacific/Honolulu
BEGIN:STANDARD
TZOFFSETFROM:-1000
TZOFFSETTO:-1000
TZNAME:HST
DTSTART:20250101T000000
END:STANDARD
END:VTIMEZONE
BEGIN:VEVENT
DTSTART;TZID=Pacific/Honolulu:20260621T090000
DTEND;TZID=Pacific/Honolulu:20260621T100000
DTSTAMP:20260419T053540
CREATED:20250116T041053Z
LAST-MODIFIED:20260313T014949Z
UID:22497-1782032400-1782036000@centralunionchurch.org
SUMMARY:9 AM Traditional Worship Service
DESCRIPTION:Worship with us in our Sanctuary! \nCan’t make it in person? View the live stream on YouTube!
URL:https://centralunionchurch.org/event/9am-worship-2026-04-12/2026-06-21/
LOCATION:Sanctuary
CATEGORIES:Church Service
ATTACH;FMTTYPE=image/jpeg:https://centralunionchurch.org/wp-content/uploads/2023/07/Easter-2022-CUC-sanctuary-scaled.jpg
END:VEVENT
BEGIN:VEVENT
DTSTART;TZID=Pacific/Honolulu:20260628T090000
DTEND;TZID=Pacific/Honolulu:20260628T100000
DTSTAMP:20260419T053540
CREATED:20250116T041053Z
LAST-MODIFIED:20260313T014950Z
UID:22498-1782637200-1782640800@centralunionchurch.org
SUMMARY:9 AM Traditional Worship Service
DESCRIPTION:Worship with us in our Sanctuary! \nCan’t make it in person? View the live stream on YouTube!
URL:https://centralunionchurch.org/event/9am-worship-2026-04-12/2026-06-28/
LOCATION:Sanctuary
CATEGORIES:Church Service
ATTACH;FMTTYPE=image/jpeg:https://centralunionchurch.org/wp-content/uploads/2023/07/Easter-2022-CUC-sanctuary-scaled.jpg
END:VEVENT
BEGIN:VEVENT
DTSTART;TZID=Pacific/Honolulu:20260705T090000
DTEND;TZID=Pacific/Honolulu:20260705T100000
DTSTAMP:20260419T053540
CREATED:20250116T041053Z
LAST-MODIFIED:20260313T014950Z
UID:22499-1783242000-1783245600@centralunionchurch.org
SUMMARY:9 AM Traditional Worship Service
DESCRIPTION:Worship with us in our Sanctuary! \nCan’t make it in person? View the live stream on YouTube!
URL:https://centralunionchurch.org/event/9am-worship-2026-04-12/2026-07-05/
LOCATION:Sanctuary
CATEGORIES:Church Service
ATTACH;FMTTYPE=image/jpeg:https://centralunionchurch.org/wp-content/uploads/2023/07/Easter-2022-CUC-sanctuary-scaled.jpg
END:VEVENT
BEGIN:VEVENT
DTSTART;TZID=Pacific/Honolulu:20260712T090000
DTEND;TZID=Pacific/Honolulu:20260712T100000
DTSTAMP:20260419T053540
CREATED:20250116T041053Z
LAST-MODIFIED:20260313T014950Z
UID:22500-1783846800-1783850400@centralunionchurch.org
SUMMARY:9 AM Traditional Worship Service
DESCRIPTION:Worship with us in our Sanctuary! \nCan’t make it in person? View the live stream on YouTube!
URL:https://centralunionchurch.org/event/9am-worship-2026-04-12/2026-07-12/
LOCATION:Sanctuary
CATEGORIES:Church Service
ATTACH;FMTTYPE=image/jpeg:https://centralunionchurch.org/wp-content/uploads/2023/07/Easter-2022-CUC-sanctuary-scaled.jpg
END:VEVENT
BEGIN:VEVENT
DTSTART;TZID=Pacific/Honolulu:20260719T090000
DTEND;TZID=Pacific/Honolulu:20260719T100000
DTSTAMP:20260419T053540
CREATED:20250116T041053Z
LAST-MODIFIED:20260313T014950Z
UID:22501-1784451600-1784455200@centralunionchurch.org
SUMMARY:9 AM Traditional Worship Service
DESCRIPTION:Worship with us in our Sanctuary! \nCan’t make it in person? View the live stream on YouTube!
URL:https://centralunionchurch.org/event/9am-worship-2026-04-12/2026-07-19/
LOCATION:Sanctuary
CATEGORIES:Church Service
ATTACH;FMTTYPE=image/jpeg:https://centralunionchurch.org/wp-content/uploads/2023/07/Easter-2022-CUC-sanctuary-scaled.jpg
END:VEVENT
BEGIN:VEVENT
DTSTART;TZID=Pacific/Honolulu:20260726T090000
DTEND;TZID=Pacific/Honolulu:20260726T100000
DTSTAMP:20260419T053540
CREATED:20250116T041053Z
LAST-MODIFIED:20260313T014950Z
UID:22502-1785056400-1785060000@centralunionchurch.org
SUMMARY:9 AM Traditional Worship Service
DESCRIPTION:Worship with us in our Sanctuary! \nCan’t make it in person? View the live stream on YouTube!
URL:https://centralunionchurch.org/event/9am-worship-2026-04-12/2026-07-26/
LOCATION:Sanctuary
CATEGORIES:Church Service
ATTACH;FMTTYPE=image/jpeg:https://centralunionchurch.org/wp-content/uploads/2023/07/Easter-2022-CUC-sanctuary-scaled.jpg
END:VEVENT
BEGIN:VEVENT
DTSTART;TZID=Pacific/Honolulu:20260802T090000
DTEND;TZID=Pacific/Honolulu:20260802T100000
DTSTAMP:20260419T053540
CREATED:20250116T041053Z
LAST-MODIFIED:20260313T014951Z
UID:22503-1785661200-1785664800@centralunionchurch.org
SUMMARY:9 AM Traditional Worship Service
DESCRIPTION:Worship with us in our Sanctuary! \nCan’t make it in person? View the live stream on YouTube!
URL:https://centralunionchurch.org/event/9am-worship-2026-04-12/2026-08-02/
LOCATION:Sanctuary
CATEGORIES:Church Service
ATTACH;FMTTYPE=image/jpeg:https://centralunionchurch.org/wp-content/uploads/2023/07/Easter-2022-CUC-sanctuary-scaled.jpg
END:VEVENT
BEGIN:VEVENT
DTSTART;TZID=Pacific/Honolulu:20260809T090000
DTEND;TZID=Pacific/Honolulu:20260809T100000
DTSTAMP:20260419T053540
CREATED:20250116T041053Z
LAST-MODIFIED:20260313T014951Z
UID:22504-1786266000-1786269600@centralunionchurch.org
SUMMARY:9 AM Traditional Worship Service
DESCRIPTION:Worship with us in our Sanctuary! \nCan’t make it in person? View the live stream on YouTube!
URL:https://centralunionchurch.org/event/9am-worship-2026-04-12/2026-08-09/
LOCATION:Sanctuary
CATEGORIES:Church Service
ATTACH;FMTTYPE=image/jpeg:https://centralunionchurch.org/wp-content/uploads/2023/07/Easter-2022-CUC-sanctuary-scaled.jpg
END:VEVENT
BEGIN:VEVENT
DTSTART;TZID=Pacific/Honolulu:20270509T090000
DTEND;TZID=Pacific/Honolulu:20270509T100000
DTSTAMP:20260419T053540
CREATED:20250116T041053Z
LAST-MODIFIED:20260313T014951Z
UID:22729-1809853200-1809856800@centralunionchurch.org
SUMMARY:9 AM Traditional Worship Service
DESCRIPTION:Worship with us in our Sanctuary! \nCan’t make it in person? View the live stream on YouTube!
URL:https://centralunionchurch.org/event/9am-worship-2026-04-12/2027-05-09/
LOCATION:Sanctuary
CATEGORIES:Church Service
ATTACH;FMTTYPE=image/jpeg:https://centralunionchurch.org/wp-content/uploads/2023/07/Easter-2022-CUC-sanctuary-scaled.jpg
END:VEVENT
BEGIN:VEVENT
DTSTART;TZID=Pacific/Honolulu:20270516T090000
DTEND;TZID=Pacific/Honolulu:20270516T100000
DTSTAMP:20260419T053540
CREATED:20250116T041053Z
LAST-MODIFIED:20260313T014951Z
UID:22779-1810458000-1810461600@centralunionchurch.org
SUMMARY:9 AM Traditional Worship Service
DESCRIPTION:Worship with us in our Sanctuary! \nCan’t make it in person? View the live stream on YouTube!
URL:https://centralunionchurch.org/event/9am-worship-2026-04-12/2027-05-16/
LOCATION:Sanctuary
CATEGORIES:Church Service
ATTACH;FMTTYPE=image/jpeg:https://centralunionchurch.org/wp-content/uploads/2023/07/Easter-2022-CUC-sanctuary-scaled.jpg
END:VEVENT
BEGIN:VEVENT
DTSTART;TZID=Pacific/Honolulu:20270523T090000
DTEND;TZID=Pacific/Honolulu:20270523T100000
DTSTAMP:20260419T053540
CREATED:20250116T041053Z
LAST-MODIFIED:20260313T014952Z
UID:22855-1811062800-1811066400@centralunionchurch.org
SUMMARY:9 AM Traditional Worship Service
DESCRIPTION:Worship with us in our Sanctuary! \nCan’t make it in person? View the live stream on YouTube!
URL:https://centralunionchurch.org/event/9am-worship-2026-04-12/2027-05-23/
LOCATION:Sanctuary
CATEGORIES:Church Service
ATTACH;FMTTYPE=image/jpeg:https://centralunionchurch.org/wp-content/uploads/2023/07/Easter-2022-CUC-sanctuary-scaled.jpg
END:VEVENT
BEGIN:VEVENT
DTSTART;TZID=Pacific/Honolulu:20270530T090000
DTEND;TZID=Pacific/Honolulu:20270530T100000
DTSTAMP:20260419T053540
CREATED:20250116T041053Z
LAST-MODIFIED:20260313T014952Z
UID:22903-1811667600-1811671200@centralunionchurch.org
SUMMARY:9 AM Traditional Worship Service
DESCRIPTION:Worship with us in our Sanctuary! \nCan’t make it in person? View the live stream on YouTube!
URL:https://centralunionchurch.org/event/9am-worship-2026-04-12/2027-05-30/
LOCATION:Sanctuary
CATEGORIES:Church Service
ATTACH;FMTTYPE=image/jpeg:https://centralunionchurch.org/wp-content/uploads/2023/07/Easter-2022-CUC-sanctuary-scaled.jpg
END:VEVENT
BEGIN:VEVENT
DTSTART;TZID=Pacific/Honolulu:20270606T090000
DTEND;TZID=Pacific/Honolulu:20270606T100000
DTSTAMP:20260419T053540
CREATED:20250116T041053Z
LAST-MODIFIED:20260313T014952Z
UID:22949-1812272400-1812276000@centralunionchurch.org
SUMMARY:9 AM Traditional Worship Service
DESCRIPTION:Worship with us in our Sanctuary! \nCan’t make it in person? View the live stream on YouTube!
URL:https://centralunionchurch.org/event/9am-worship-2026-04-12/2027-06-06/
LOCATION:Sanctuary
CATEGORIES:Church Service
ATTACH;FMTTYPE=image/jpeg:https://centralunionchurch.org/wp-content/uploads/2023/07/Easter-2022-CUC-sanctuary-scaled.jpg
END:VEVENT
BEGIN:VEVENT
DTSTART;TZID=Pacific/Honolulu:20270613T090000
DTEND;TZID=Pacific/Honolulu:20270613T100000
DTSTAMP:20260419T053540
CREATED:20250116T041053Z
LAST-MODIFIED:20260313T014952Z
UID:22999-1812877200-1812880800@centralunionchurch.org
SUMMARY:9 AM Traditional Worship Service
DESCRIPTION:Worship with us in our Sanctuary! \nCan’t make it in person? View the live stream on YouTube!
URL:https://centralunionchurch.org/event/9am-worship-2026-04-12/2027-06-13/
LOCATION:Sanctuary
CATEGORIES:Church Service
ATTACH;FMTTYPE=image/jpeg:https://centralunionchurch.org/wp-content/uploads/2023/07/Easter-2022-CUC-sanctuary-scaled.jpg
END:VEVENT
BEGIN:VEVENT
DTSTART;TZID=Pacific/Honolulu:20270620T090000
DTEND;TZID=Pacific/Honolulu:20270620T100000
DTSTAMP:20260419T053540
CREATED:20250116T041053Z
LAST-MODIFIED:20260313T014947Z
UID:23057-1813482000-1813485600@centralunionchurch.org
SUMMARY:9 AM Traditional Worship Service
DESCRIPTION:Worship with us in our Sanctuary! \nCan’t make it in person? View the live stream on YouTube!
URL:https://centralunionchurch.org/event/9am-worship-2026-04-05/2027-06-20/
LOCATION:Sanctuary
CATEGORIES:Church Service
ATTACH;FMTTYPE=image/jpeg:https://centralunionchurch.org/wp-content/uploads/2023/07/Easter-2022-CUC-sanctuary-scaled.jpg
END:VEVENT
BEGIN:VEVENT
DTSTART;TZID=Pacific/Honolulu:20270627T090000
DTEND;TZID=Pacific/Honolulu:20270627T100000
DTSTAMP:20260419T053540
CREATED:20250116T041053Z
LAST-MODIFIED:20260313T014947Z
UID:23122-1814086800-1814090400@centralunionchurch.org
SUMMARY:9 AM Traditional Worship Service
DESCRIPTION:Worship with us in our Sanctuary! \nCan’t make it in person? View the live stream on YouTube!
URL:https://centralunionchurch.org/event/9am-worship-2026-04-05/2027-06-27/
LOCATION:Sanctuary
CATEGORIES:Church Service
ATTACH;FMTTYPE=image/jpeg:https://centralunionchurch.org/wp-content/uploads/2023/07/Easter-2022-CUC-sanctuary-scaled.jpg
END:VEVENT
BEGIN:VEVENT
DTSTART;TZID=Pacific/Honolulu:20270704T090000
DTEND;TZID=Pacific/Honolulu:20270704T100000
DTSTAMP:20260419T053540
CREATED:20250116T041053Z
LAST-MODIFIED:20260313T014947Z
UID:23370-1814691600-1814695200@centralunionchurch.org
SUMMARY:9 AM Traditional Worship Service
DESCRIPTION:Worship with us in our Sanctuary! \nCan’t make it in person? View the live stream on YouTube!
URL:https://centralunionchurch.org/event/9am-worship-2026-04-05/2027-07-04/
LOCATION:Sanctuary
CATEGORIES:Church Service
ATTACH;FMTTYPE=image/jpeg:https://centralunionchurch.org/wp-content/uploads/2023/07/Easter-2022-CUC-sanctuary-scaled.jpg
END:VEVENT
BEGIN:VEVENT
DTSTART;TZID=Pacific/Honolulu:20270711T090000
DTEND;TZID=Pacific/Honolulu:20270711T100000
DTSTAMP:20260419T053540
CREATED:20250116T041053Z
LAST-MODIFIED:20260313T014947Z
UID:23517-1815296400-1815300000@centralunionchurch.org
SUMMARY:9 AM Traditional Worship Service
DESCRIPTION:Worship with us in our Sanctuary! \nCan’t make it in person? View the live stream on YouTube!
URL:https://centralunionchurch.org/event/9am-worship-2026-04-05/2027-07-11/
LOCATION:Sanctuary
CATEGORIES:Church Service
ATTACH;FMTTYPE=image/jpeg:https://centralunionchurch.org/wp-content/uploads/2023/07/Easter-2022-CUC-sanctuary-scaled.jpg
END:VEVENT
BEGIN:VEVENT
DTSTART;TZID=Pacific/Honolulu:20270718T090000
DTEND;TZID=Pacific/Honolulu:20270718T100000
DTSTAMP:20260419T053540
CREATED:20250116T041053Z
LAST-MODIFIED:20260313T014948Z
UID:23578-1815901200-1815904800@centralunionchurch.org
SUMMARY:9 AM Traditional Worship Service
DESCRIPTION:Worship with us in our Sanctuary! \nCan’t make it in person? View the live stream on YouTube!
URL:https://centralunionchurch.org/event/9am-worship-2026-04-05/2027-07-18/
LOCATION:Sanctuary
CATEGORIES:Church Service
ATTACH;FMTTYPE=image/jpeg:https://centralunionchurch.org/wp-content/uploads/2023/07/Easter-2022-CUC-sanctuary-scaled.jpg
END:VEVENT
BEGIN:VEVENT
DTSTART;TZID=Pacific/Honolulu:20270725T090000
DTEND;TZID=Pacific/Honolulu:20270725T100000
DTSTAMP:20260419T053540
CREATED:20250116T041053Z
LAST-MODIFIED:20260313T014948Z
UID:23636-1816506000-1816509600@centralunionchurch.org
SUMMARY:9 AM Traditional Worship Service
DESCRIPTION:Worship with us in our Sanctuary! \nCan’t make it in person? View the live stream on YouTube!
URL:https://centralunionchurch.org/event/9am-worship-2026-04-05/2027-07-25/
LOCATION:Sanctuary
CATEGORIES:Church Service
ATTACH;FMTTYPE=image/jpeg:https://centralunionchurch.org/wp-content/uploads/2023/07/Easter-2022-CUC-sanctuary-scaled.jpg
END:VEVENT
BEGIN:VEVENT
DTSTART;TZID=Pacific/Honolulu:20270801T090000
DTEND;TZID=Pacific/Honolulu:20270801T100000
DTSTAMP:20260419T053540
CREATED:20250116T041053Z
LAST-MODIFIED:20260313T014948Z
UID:23676-1817110800-1817114400@centralunionchurch.org
SUMMARY:9 AM Traditional Worship Service
DESCRIPTION:Worship with us in our Sanctuary! \nCan’t make it in person? View the live stream on YouTube!
URL:https://centralunionchurch.org/event/9am-worship-2026-04-05/2027-08-01/
LOCATION:Sanctuary
CATEGORIES:Church Service
ATTACH;FMTTYPE=image/jpeg:https://centralunionchurch.org/wp-content/uploads/2023/07/Easter-2022-CUC-sanctuary-scaled.jpg
END:VEVENT
BEGIN:VEVENT
DTSTART;TZID=Pacific/Honolulu:20270808T090000
DTEND;TZID=Pacific/Honolulu:20270808T100000
DTSTAMP:20260419T053540
CREATED:20250116T041053Z
LAST-MODIFIED:20260313T014949Z
UID:23761-1817715600-1817719200@centralunionchurch.org
SUMMARY:9 AM Traditional Worship Service
DESCRIPTION:Worship with us in our Sanctuary! \nCan’t make it in person? View the live stream on YouTube!
URL:https://centralunionchurch.org/event/9am-worship-2026-04-05/2027-08-08/
LOCATION:Sanctuary
CATEGORIES:Church Service
ATTACH;FMTTYPE=image/jpeg:https://centralunionchurch.org/wp-content/uploads/2023/07/Easter-2022-CUC-sanctuary-scaled.jpg
END:VEVENT
BEGIN:VEVENT
DTSTART;TZID=Pacific/Honolulu:20270815T090000
DTEND;TZID=Pacific/Honolulu:20270815T100000
DTSTAMP:20260419T053540
CREATED:20250116T041053Z
LAST-MODIFIED:20260313T014949Z
UID:23818-1818320400-1818324000@centralunionchurch.org
SUMMARY:9 AM Traditional Worship Service
DESCRIPTION:Worship with us in our Sanctuary! \nCan’t make it in person? View the live stream on YouTube!
URL:https://centralunionchurch.org/event/9am-worship-2026-04-05/2027-08-15/
LOCATION:Sanctuary
CATEGORIES:Church Service
ATTACH;FMTTYPE=image/jpeg:https://centralunionchurch.org/wp-content/uploads/2023/07/Easter-2022-CUC-sanctuary-scaled.jpg
END:VEVENT
BEGIN:VEVENT
DTSTART;TZID=Pacific/Honolulu:20270822T090000
DTEND;TZID=Pacific/Honolulu:20270822T100000
DTSTAMP:20260419T053540
CREATED:20250116T041053Z
LAST-MODIFIED:20260313T014949Z
UID:23889-1818925200-1818928800@centralunionchurch.org
SUMMARY:9 AM Traditional Worship Service
DESCRIPTION:Worship with us in our Sanctuary! \nCan’t make it in person? View the live stream on YouTube!
URL:https://centralunionchurch.org/event/9am-worship-2026-04-05/2027-08-22/
LOCATION:Sanctuary
CATEGORIES:Church Service
ATTACH;FMTTYPE=image/jpeg:https://centralunionchurch.org/wp-content/uploads/2023/07/Easter-2022-CUC-sanctuary-scaled.jpg
END:VEVENT
BEGIN:VEVENT
DTSTART;TZID=Pacific/Honolulu:20270829T090000
DTEND;TZID=Pacific/Honolulu:20270829T100000
DTSTAMP:20260419T053540
CREATED:20250116T041053Z
LAST-MODIFIED:20260313T014949Z
UID:24016-1819530000-1819533600@centralunionchurch.org
SUMMARY:9 AM Traditional Worship Service
DESCRIPTION:Worship with us in our Sanctuary! \nCan’t make it in person? View the live stream on YouTube!
URL:https://centralunionchurch.org/event/9am-worship-2026-04-05/2027-08-29/
LOCATION:Sanctuary
CATEGORIES:Church Service
ATTACH;FMTTYPE=image/jpeg:https://centralunionchurch.org/wp-content/uploads/2023/07/Easter-2022-CUC-sanctuary-scaled.jpg
END:VEVENT
BEGIN:VEVENT
DTSTART;TZID=Pacific/Honolulu:20270905T090000
DTEND;TZID=Pacific/Honolulu:20270905T100000
DTSTAMP:20260419T053540
CREATED:20250116T041053Z
LAST-MODIFIED:20260313T014950Z
UID:24081-1820134800-1820138400@centralunionchurch.org
SUMMARY:9 AM Traditional Worship Service
DESCRIPTION:Worship with us in our Sanctuary! \nCan’t make it in person? View the live stream on YouTube!
URL:https://centralunionchurch.org/event/9am-worship-2026-04-05/2027-09-05/
LOCATION:Sanctuary
CATEGORIES:Church Service
ATTACH;FMTTYPE=image/jpeg:https://centralunionchurch.org/wp-content/uploads/2023/07/Easter-2022-CUC-sanctuary-scaled.jpg
END:VEVENT
BEGIN:VEVENT
DTSTART;TZID=Pacific/Honolulu:20270912T090000
DTEND;TZID=Pacific/Honolulu:20270912T100000
DTSTAMP:20260419T053540
CREATED:20250116T041053Z
LAST-MODIFIED:20260313T014950Z
UID:24126-1820739600-1820743200@centralunionchurch.org
SUMMARY:9 AM Traditional Worship Service
DESCRIPTION:Worship with us in our Sanctuary! \nCan’t make it in person? View the live stream on YouTube!
URL:https://centralunionchurch.org/event/9am-worship-2026-04-05/2027-09-12/
LOCATION:Sanctuary
CATEGORIES:Church Service
ATTACH;FMTTYPE=image/jpeg:https://centralunionchurch.org/wp-content/uploads/2023/07/Easter-2022-CUC-sanctuary-scaled.jpg
END:VEVENT
BEGIN:VEVENT
DTSTART;TZID=Pacific/Honolulu:20270919T090000
DTEND;TZID=Pacific/Honolulu:20270919T100000
DTSTAMP:20260419T053540
CREATED:20250116T041053Z
LAST-MODIFIED:20260313T014950Z
UID:24194-1821344400-1821348000@centralunionchurch.org
SUMMARY:9 AM Traditional Worship Service
DESCRIPTION:Worship with us in our Sanctuary! \nCan’t make it in person? View the live stream on YouTube!
URL:https://centralunionchurch.org/event/9am-worship-2026-04-05/2027-09-19/
LOCATION:Sanctuary
CATEGORIES:Church Service
ATTACH;FMTTYPE=image/jpeg:https://centralunionchurch.org/wp-content/uploads/2023/07/Easter-2022-CUC-sanctuary-scaled.jpg
END:VEVENT
BEGIN:VEVENT
DTSTART;TZID=Pacific/Honolulu:20270926T090000
DTEND;TZID=Pacific/Honolulu:20270926T100000
DTSTAMP:20260419T053540
CREATED:20250116T041053Z
LAST-MODIFIED:20260313T014951Z
UID:24259-1821949200-1821952800@centralunionchurch.org
SUMMARY:9 AM Traditional Worship Service
DESCRIPTION:Worship with us in our Sanctuary! \nCan’t make it in person? View the live stream on YouTube!
URL:https://centralunionchurch.org/event/9am-worship-2026-04-05/2027-09-26/
LOCATION:Sanctuary
CATEGORIES:Church Service
ATTACH;FMTTYPE=image/jpeg:https://centralunionchurch.org/wp-content/uploads/2023/07/Easter-2022-CUC-sanctuary-scaled.jpg
END:VEVENT
BEGIN:VEVENT
DTSTART;TZID=Pacific/Honolulu:20271003T090000
DTEND;TZID=Pacific/Honolulu:20271003T100000
DTSTAMP:20260419T053540
CREATED:20250116T041053Z
LAST-MODIFIED:20260313T014951Z
UID:24303-1822554000-1822557600@centralunionchurch.org
SUMMARY:9 AM Traditional Worship Service
DESCRIPTION:Worship with us in our Sanctuary! \nCan’t make it in person? View the live stream on YouTube!
URL:https://centralunionchurch.org/event/9am-worship-2026-04-05/2027-10-03/
LOCATION:Sanctuary
CATEGORIES:Church Service
ATTACH;FMTTYPE=image/jpeg:https://centralunionchurch.org/wp-content/uploads/2023/07/Easter-2022-CUC-sanctuary-scaled.jpg
END:VEVENT
END:VCALENDAR