BEGIN:VCALENDAR
VERSION:2.0
PRODID:-//Central Union Church - ECPv6.15.20//NONSGML v1.0//EN
CALSCALE:GREGORIAN
METHOD:PUBLISH
X-ORIGINAL-URL:https://centralunionchurch.org
X-WR-CALDESC:Events for Central Union Church
REFRESH-INTERVAL;VALUE=DURATION:PT1H
X-Robots-Tag:noindex
X-PUBLISHED-TTL:PT1H
BEGIN:VTIMEZONE
TZID:UTC
BEGIN:STANDARD
TZOFFSETFROM:+0000
TZOFFSETTO:+0000
TZNAME:UTC
DTSTART:20180101T000000
END:STANDARD
END:VTIMEZONE
BEGIN:VEVENT
DTSTART;TZID=UTC:20190505T090000
DTEND;TZID=UTC:20190505T100000
DTSTAMP:20260422T005345
CREATED:20190503T073229Z
LAST-MODIFIED:20190503T073229Z
UID:3192-1557046800-1557050400@centralunionchurch.org
SUMMARY:Holmes Sunday
DESCRIPTION:5 Holmes Sunday at Windward Campus (9AM service / presentation of scholarships)
URL:https://centralunionchurch.org/event/holmes-sunday/
LOCATION:Windward Campus\, 38 Kaneohe Bay Dr\, Kailua\, HI\, 96734
END:VEVENT
END:VCALENDAR