BEGIN:VCALENDAR
VERSION:2.0
PRODID:-//Central Union Church - ECPv6.15.20//NONSGML v1.0//EN
CALSCALE:GREGORIAN
METHOD:PUBLISH
X-ORIGINAL-URL:https://centralunionchurch.org
X-WR-CALDESC:Events for Central Union Church
REFRESH-INTERVAL;VALUE=DURATION:PT1H
X-Robots-Tag:noindex
X-PUBLISHED-TTL:PT1H
BEGIN:VTIMEZONE
TZID:Pacific/Honolulu
BEGIN:STANDARD
TZOFFSETFROM:-1000
TZOFFSETTO:-1000
TZNAME:HST
DTSTART:20220101T000000
END:STANDARD
END:VTIMEZONE
BEGIN:VTIMEZONE
TZID:UTC
BEGIN:STANDARD
TZOFFSETFROM:+0000
TZOFFSETTO:+0000
TZNAME:UTC
DTSTART:20180101T000000
END:STANDARD
END:VTIMEZONE
BEGIN:VEVENT
DTSTART;TZID=Pacific/Honolulu:20241224T180000
DTEND;TZID=Pacific/Honolulu:20241224T190000
DTSTAMP:20260421T021207
CREATED:20241203T021623Z
LAST-MODIFIED:20241203T021623Z
UID:21119-1735063200-1735066800@centralunionchurch.org
SUMMARY:(Windward) Candlelight Service & Carols
DESCRIPTION:Celebrate Christmas with our Windward community at the Central Union Windward campus\, located across from Aikahi Shopping Center!
URL:https://centralunionchurch.org/event/windward-christmas-eve-2024/
LOCATION:Windward Sanctuary
ATTACH;FMTTYPE=image/jpeg:https://centralunionchurch.org/wp-content/uploads/2022/12/CUW-christmas-eve-2019-candles.jpg
END:VEVENT
BEGIN:VEVENT
DTSTART;TZID=Pacific/Honolulu:20231224T180000
DTEND;TZID=Pacific/Honolulu:20231224T190000
DTSTAMP:20260421T021207
CREATED:20231209T040026Z
LAST-MODIFIED:20231209T040026Z
UID:17636-1703440800-1703444400@centralunionchurch.org
SUMMARY:(Windward) Candlelight Service & Carols
DESCRIPTION:Join our Windward ministry for a candlelight service and carols on Christmas Eve! \nLocation: 38 Kāne‘ohe Bay Drive\, across Aikahi Shopping Center
URL:https://centralunionchurch.org/event/windward-candlelight-service-carols-2023/
LOCATION:Windward Sanctuary
CATEGORIES:CUC
ATTACH;FMTTYPE=image/jpeg:https://centralunionchurch.org/wp-content/uploads/2022/12/CUW-christmas-eve-2019-candles.jpg
ORGANIZER;CN="CUC Windward Ministry":MAILTO:cuwindward@gmail.com
END:VEVENT
BEGIN:VEVENT
DTSTART;TZID=Pacific/Honolulu:20230618T110000
DTEND;TZID=Pacific/Honolulu:20230618T120000
DTSTAMP:20260421T021207
CREATED:20230610T022420Z
LAST-MODIFIED:20230610T024822Z
UID:16236-1687086000-1687089600@centralunionchurch.org
SUMMARY:Senior Minister Candidate Info Session 3
DESCRIPTION:The third of three informational sessions\, hosted by the Senior Minister Search Committee and Personnel & Pastoral Relations Committee\, to learn more about the Senior Minister candidate. \nThe candidate has been recommended to the Church Council and unanimously approved for consideration by the congregation\, which will vote on the candidate in a Special Congregational Meeting on June 25. \nMembers are encouraged to attend at least one informational session to help in their discernment of the candidate as the next Settled Senior Minister Called to Central Union Church. \nPlease be in prayer for our congregation and the Senior Minister candidate as we discern together about this call!
URL:https://centralunionchurch.org/event/senior-minister-candidate-info-session-3/
LOCATION:Windward Sanctuary
END:VEVENT
BEGIN:VEVENT
DTSTART;TZID=Pacific/Honolulu:20230108T100000
DTEND;TZID=Pacific/Honolulu:20230108T110000
DTSTAMP:20260421T021207
CREATED:20221203T040751Z
LAST-MODIFIED:20221203T040931Z
UID:14848-1673172000-1673175600@centralunionchurch.org
SUMMARY:Worship at Windward
DESCRIPTION:Worship with us at our Windward campus!
URL:https://centralunionchurch.org/event/worship-at-windward/
LOCATION:Windward Sanctuary
CATEGORIES:Church Service
ORGANIZER;CN="CUC Windward Ministry":MAILTO:cuwindward@gmail.com
END:VEVENT
BEGIN:VEVENT
DTSTART;TZID=Pacific/Honolulu:20230101T100000
DTEND;TZID=Pacific/Honolulu:20230101T110000
DTSTAMP:20260421T021207
CREATED:20221203T040531Z
LAST-MODIFIED:20221203T040831Z
UID:14845-1672567200-1672570800@centralunionchurch.org
SUMMARY:Worship at Windward
DESCRIPTION:Join us at our Windward campus for worship on New Year’s Day! We will partake in communion. All are welcome!
URL:https://centralunionchurch.org/event/worship-at-windward-jan-1-2022/
LOCATION:Windward Sanctuary
CATEGORIES:Church Service
ORGANIZER;CN="CUC Windward Ministry":MAILTO:cuwindward@gmail.com
END:VEVENT
BEGIN:VEVENT
DTSTART;TZID=UTC:20191224T180000
DTEND;TZID=UTC:20191224T190000
DTSTAMP:20260421T021207
CREATED:20191210T070831Z
LAST-MODIFIED:20191210T072402Z
UID:6198-1577210400-1577214000@centralunionchurch.org
SUMMARY:Traditional Candlelight & Holy Communion at Central Union Windward
DESCRIPTION:A service with congregational carols\, scripture\, homily and music.
URL:https://centralunionchurch.org/event/traditional-candlelight-holy-communion-at-central-union-windward/
LOCATION:Windward Sanctuary
CATEGORIES:Church Service
END:VEVENT
BEGIN:VEVENT
DTSTART;TZID=UTC:20190921T150000
DTEND;TZID=UTC:20190921T203000
DTSTAMP:20260421T021207
CREATED:20190831T114527Z
LAST-MODIFIED:20190831T114527Z
UID:4448-1569078000-1569097800@centralunionchurch.org
SUMMARY:Paint Night
DESCRIPTION:There are two events happening this day. The first at 3 to 5 PM\, the second is 6:30 to 8:30 PM. Contact Mary-herbig@centralunionchurch.org for more information and to reserve a spot.
URL:https://centralunionchurch.org/event/paint-night/
LOCATION:Windward Sanctuary
END:VEVENT
END:VCALENDAR